BEGIN:VCALENDAR
VERSION:2.0
PRODID:-//KCI Expo Center - ECPv6.15.18//NONSGML v1.0//EN
CALSCALE:GREGORIAN
METHOD:PUBLISH
X-ORIGINAL-URL:https://kciexpo.com
X-WR-CALDESC:Events for KCI Expo Center
REFRESH-INTERVAL;VALUE=DURATION:PT1H
X-Robots-Tag:noindex
X-PUBLISHED-TTL:PT1H
BEGIN:VTIMEZONE
TZID:America/Chicago
BEGIN:DAYLIGHT
TZOFFSETFROM:-0600
TZOFFSETTO:-0500
TZNAME:CDT
DTSTART:20250309T080000
END:DAYLIGHT
BEGIN:STANDARD
TZOFFSETFROM:-0500
TZOFFSETTO:-0600
TZNAME:CST
DTSTART:20251102T070000
END:STANDARD
BEGIN:DAYLIGHT
TZOFFSETFROM:-0600
TZOFFSETTO:-0500
TZNAME:CDT
DTSTART:20260308T080000
END:DAYLIGHT
BEGIN:STANDARD
TZOFFSETFROM:-0500
TZOFFSETTO:-0600
TZNAME:CST
DTSTART:20261101T070000
END:STANDARD
BEGIN:DAYLIGHT
TZOFFSETFROM:-0600
TZOFFSETTO:-0500
TZNAME:CDT
DTSTART:20270314T080000
END:DAYLIGHT
BEGIN:STANDARD
TZOFFSETFROM:-0500
TZOFFSETTO:-0600
TZNAME:CST
DTSTART:20271107T070000
END:STANDARD
END:VTIMEZONE
BEGIN:VEVENT
DTSTART;VALUE=DATE:20260516
DTEND;VALUE=DATE:20260517
DTSTAMP:20260420T053020
CREATED:20260220T201009Z
LAST-MODIFIED:20260401T152344Z
UID:10000980-1778889600-1778975999@kciexpo.com
SUMMARY:Frasher Doll Auction
DESCRIPTION:A Trusted and Experienced Business\n\n\n\nAt Frasher’s Doll Auctions\, we specialize in the sale of antique and vintage dolls and ephemera. Our team of experts has over 40 years of experience in the doll industry and is dedicated to providing you with the best possible service. We are dedicated to providing both sellers and buyers with a safe\, secure\, and successful auction experience. \n\n  KCI Expo Center  was last modified:  June 26th\, 2015  by
URL:https://kciexpo.com/event/frasher-doll-auction-6/
LOCATION:KCI Expo Center\, 11730 NW. Ambassador Dr.\, Kansas City\, MO\, 64153\, United States
CATEGORIES:Antiques
ATTACH;FMTTYPE=image/webp:https://eodosoufjos.exactdn.com/wp-content/uploads/2024/02/Frashers.webp
END:VEVENT
BEGIN:VEVENT
DTSTART;VALUE=DATE:20260516
DTEND;VALUE=DATE:20260519
DTSTAMP:20260420T053020
CREATED:20260220T200924Z
LAST-MODIFIED:20260220T200924Z
UID:10000979-1778889600-1779148799@kciexpo.com
SUMMARY:Pence Estate Auction
DESCRIPTION:WELCOME! \nA respected leader in the estate sale and fine art auction business since 1982.\nPence Auction and Pence Estate Sales are a multi-generational\ntradition of excellence\, integrity and focus.\nWe provide uncompromising attention to all of your estate\, auction and appraisal needs.\nContact us today and let us know how we can help! \n  KCI Expo Center  was last modified:  June 26th\, 2015  by
URL:https://kciexpo.com/event/pence-estate-auction-10/
LOCATION:KCI Expo Center\, 11730 NW. Ambassador Dr.\, Kansas City\, MO\, 64153\, United States
CATEGORIES:Antiques
ATTACH;FMTTYPE=image/png:https://eodosoufjos.exactdn.com/wp-content/uploads/2024/02/Pence_Auction_Esales.png
END:VEVENT
BEGIN:VEVENT
DTSTART;VALUE=DATE:20260606
DTEND;VALUE=DATE:20260608
DTSTAMP:20260420T053020
CREATED:20260220T201347Z
LAST-MODIFIED:20260220T201347Z
UID:10000983-1780704000-1780876799@kciexpo.com
SUMMARY:RK Gun Show
DESCRIPTION:Looking for a great way to spend a day or the weekend of June 6-7\, 2026? If you are a gun collector or are a hunting enthusiast\, the gun show at the KCI Expo Center in Kansas City\, MO is a great place to spend some time. RK Shows will have a variety of vendors displaying guns\, hunting supplies\, military surplus and outdoor gear available to teach you\, answer your questions\, and find exactly what you’re looking for. \nSafety is first at all of RK Shows Events\, so we will have security and check-in points for the safety of our attendees and vendors. \nTickets:\nAdults: $15\, VIP: $17.50 – no line\, no wait\nKids: $6\, VIP: $8.50 – no line\, no wait \n  \n\n  KCI Expo Center  was last modified:  June 26th\, 2015  by
URL:https://kciexpo.com/event/rk-gun-show-58/
LOCATION:KCI Expo Center\, 11730 NW. Ambassador Dr.\, Kansas City\, MO\, 64153\, United States
CATEGORIES:Firearms
ATTACH;FMTTYPE=image/png:https://eodosoufjos.exactdn.com/wp-content/uploads/2024/02/gun-show-750x500-1.png
END:VEVENT
BEGIN:VEVENT
DTSTART;VALUE=DATE:20260718
DTEND;VALUE=DATE:20260719
DTSTAMP:20260420T053020
CREATED:20260401T152720Z
LAST-MODIFIED:20260401T152720Z
UID:10000984-1784332800-1784419199@kciexpo.com
SUMMARY:Fuji BJJ Tournament KC Summer Open
DESCRIPTION:  \n\n\n\n\n\n\nFUJI BJJ Kansas City Summer Open\n\n\n\n\n\n\nFUJI BJJ presents the Kansas City Summer Open. We are dedicated to bringing you the best tournament experience possible. Our tournament series offer divisions for any age\, weight\, skill level\, as well as GI and NOGI divisions. \n\nTOURNAMENT DETAILS:  \nDate: 07/18/2026 \nVenue: KCI Expo Center \nAddress: 11730 N Ambassador Dr.\, Kansas City\, MO 64153 \nFormat: Depending on the bracket size we offer best of three\, round robin\, and modified double elimination brackets to ensure everyone gets more than one match. \nAge Standards: Age 4 and Up \nAll States Welcome! \nIMPORTANT DATES\nEarly Bird registration deadline: 06 Jun (11:59 pm) \nNormal registration deadline: 04 Jul (11:59 pm) \nLate registration deadline: 14 Jul (11:59 pm) \nCheck Day (last day to change weight without fee) is the Wednesday before the event. \nMerging of uncontested divisions will happen the Wednesday before the event. \nThe schedule will be published the Thursday before the event. \nDoors Open/Weigh-ins begin: Day of event (8:00 am) \nMatches Begin: Day of event (9:00 am) \nSPECTATOR FEE:\nAll spectators over the age of 12 years old must have a spectator pass.  Passes may be purchased at the door upon entry of the venue. \n\nSpectator fee: $20.\n\nEach academy will receive at least 1 free coaches pass. The amount of free passes depends on how many students from that academy are registered for the event. At least 1 free pass per 5 students will be available. Coaches do not need to message in before the event.  \n_______________________________________________________________________________ \nQUESTIONS/NEED HELP:\n• For all inquiries regarding making edits to your registrations\, weigh-ins\, division merging\, etc. please see our FAQ HERE \n• For rules info see our full Rule Set HERE \nFor Questions not answered in the links given above: \nEmail Cori Hardy at cori@fujibjj.com \n\n\n\n\n  KCI Expo Center  was last modified:  June 26th\, 2015  by
URL:https://kciexpo.com/event/fuji-bjj-tournament-kc-summer-open/
LOCATION:KCI Expo Center\, 11730 NW. Ambassador Dr.\, Kansas City\, MO\, 64153\, United States
CATEGORIES:Tournaments
ATTACH;FMTTYPE=image/jpeg:https://eodosoufjos.exactdn.com/wp-content/uploads/2025/06/Fuji-BJJ-.jpg
END:VEVENT
BEGIN:VEVENT
DTSTART;VALUE=DATE:20260725
DTEND;VALUE=DATE:20260727
DTSTAMP:20260420T053020
CREATED:20260401T153012Z
LAST-MODIFIED:20260401T153012Z
UID:10000985-1784937600-1785110399@kciexpo.com
SUMMARY:55th Annual Missouri Valley Arms Collectors 2026 Summer Arms Show
DESCRIPTION:KCI Expo Center  was last modified:  June 26th\, 2015  by
URL:https://kciexpo.com/event/55th-annual-missouri-valley-arms-collectors-2026-summer-arms-show/
LOCATION:KCI Expo Center\, 11730 NW. Ambassador Dr.\, Kansas City\, MO\, 64153\, United States
CATEGORIES:Firearms
ATTACH;FMTTYPE=image/png:https://eodosoufjos.exactdn.com/wp-content/uploads/2024/02/gun-show-750x500-1.png
END:VEVENT
BEGIN:VEVENT
DTSTART;VALUE=DATE:20260801
DTEND;VALUE=DATE:20260803
DTSTAMP:20260420T053020
CREATED:20260401T153157Z
LAST-MODIFIED:20260401T153157Z
UID:10000986-1785542400-1785715199@kciexpo.com
SUMMARY:AnimeVerse Fest
DESCRIPTION:Join us for Animeverse Fest on August 1st-2nd\, 2026\, at the KCI Expo Center! This fantastic venue will be buzzing with energy as fans of anime and video gaming come together. Enjoy exciting panels\, cosplay contests\, and a treasure trove of merchandise\, including rare figurines and collectibles. Whether you’re into your favorite anime series or the latest gaming trends\, Animeverse Fest is the place to be. Don’t miss out on this amazing weekend of fun and connection with fellow enthusiasts! \n  \n\n  KCI Expo Center  was last modified:  June 26th\, 2015  by
URL:https://kciexpo.com/event/animeverse-fest-2/
LOCATION:KCI Expo Center\, 11730 NW. Ambassador Dr.\, Kansas City\, MO\, 64153\, United States
CATEGORIES:Con
ATTACH;FMTTYPE=image/png:https://eodosoufjos.exactdn.com/wp-content/uploads/2025/02/Animeverse.png
END:VEVENT
BEGIN:VEVENT
DTSTART;VALUE=DATE:20260808
DTEND;VALUE=DATE:20260810
DTSTAMP:20260420T053020
CREATED:20260401T153443Z
LAST-MODIFIED:20260401T153443Z
UID:10000987-1786147200-1786319999@kciexpo.com
SUMMARY:RK Gun Show
DESCRIPTION:Looking for a great way to spend a day or the weekend of August 8-9\, 2026? If you are a gun collector or are a hunting enthusiast\, the gun show at the KCI Expo Center in Kansas City\, MO is a great place to spend some time. RK Shows will have a variety of vendors displaying guns\, hunting supplies\, military surplus and outdoor gear available to teach you\, answer your questions\, and find exactly what you’re looking for. \nSafety is first at all of RK Shows Events\, so we will have security and check-in points for the safety of our attendees and vendors. \nHours:\nSaturday: 8 AM – 5 PM\nSunday: 9 AM – 3 PM \nTickets:\nAdults: $15\, VIP: $17.50 – no line\, no wait\nKids: $6\, VIP: $8.50 – no line\, no wait \n\n  KCI Expo Center  was last modified:  June 26th\, 2015  by
URL:https://kciexpo.com/event/rk-gun-show-59/
LOCATION:KCI Expo Center\, 11730 NW. Ambassador Dr.\, Kansas City\, MO\, 64153\, United States
CATEGORIES:Firearms
ATTACH;FMTTYPE=image/png:https://eodosoufjos.exactdn.com/wp-content/uploads/2024/02/gun-show-750x500-1.png
END:VEVENT
BEGIN:VEVENT
DTSTART;VALUE=DATE:20260822
DTEND;VALUE=DATE:20260823
DTSTAMP:20260420T053020
CREATED:20260401T153626Z
LAST-MODIFIED:20260401T153626Z
UID:10000989-1787356800-1787443199@kciexpo.com
SUMMARY:Frasher Doll Auction
DESCRIPTION:A Trusted and Experienced Business\n\n\n\nAt Frasher’s Doll Auctions\, we specialize in the sale of antique and vintage dolls and ephemera. Our team of experts has over 40 years of experience in the doll industry and is dedicated to providing you with the best possible service. We are dedicated to providing both sellers and buyers with a safe\, secure\, and successful auction experience. \n\n  KCI Expo Center  was last modified:  June 26th\, 2015  by
URL:https://kciexpo.com/event/frasher-doll-auction-7/
LOCATION:KCI Expo Center\, 11730 NW. Ambassador Dr.\, Kansas City\, MO\, 64153\, United States
CATEGORIES:Antiques
ATTACH;FMTTYPE=image/webp:https://eodosoufjos.exactdn.com/wp-content/uploads/2024/02/Frashers.webp
END:VEVENT
BEGIN:VEVENT
DTSTART;VALUE=DATE:20260830
DTEND;VALUE=DATE:20260831
DTSTAMP:20260420T053020
CREATED:20260401T153845Z
LAST-MODIFIED:20260401T153845Z
UID:10000991-1788048000-1788134399@kciexpo.com
SUMMARY:MidAmerican Toy and Train Show
DESCRIPTION:Our train and toy show is like a flea market that sells only toys and trains or related items. \nThey can be new\, used or collectible items offered by retail vendors or hobbyists thinning their collections. You will also meet others interested in the same things you are. There will also be groups displaying information on their clubs and organizations. You will find 200 tables of vendors buying and selling trains and toys. We also will have free train movies for viewing\, door prizes\, concessions\, and free parking. All of this is only $5 for Adults and children under 12 are free with a paid adult. \n  \n\n  KCI Expo Center  was last modified:  June 26th\, 2015  by
URL:https://kciexpo.com/event/midamerican-toy-and-train-show-5/
LOCATION:KCI Expo Center\, 11730 NW. Ambassador Dr.\, Kansas City\, MO\, 64153\, United States
CATEGORIES:Toys
ATTACH;FMTTYPE=image/png:https://eodosoufjos.exactdn.com/wp-content/uploads/2024/02/toy-train-show.png
END:VEVENT
BEGIN:VEVENT
DTSTART;TZID=America/Chicago:20260926T100000
DTEND;TZID=America/Chicago:20260926T170000
DTSTAMP:20260420T053020
CREATED:20260401T154523Z
LAST-MODIFIED:20260401T154523Z
UID:10000992-1790416800-1790442000@kciexpo.com
SUMMARY:Time Travelers Vintage Expo
DESCRIPTION:Time Travelers Vintage Expo is the largest traveling retro vintage market in the United States\, currently visiting 17 cities from coast to coast. Attendees can expect to find a retro wonderland with the absolute best in vintage clothing\, home goods\, retro-inspired handmade\, and more! Our vendors are carefully selected from across the country for a highly curated shopping experience and offer a wide range of styles and price points. We strive to create an inclusive space focused on community\, sustainability\, and creativity while supporting the dreams of 80-120 small businesses\, curators\, and artists per show. There is something for every vintage lover at Time Travelers Vintage Expo! \n\n  KCI Expo Center  was last modified:  June 26th\, 2015  by
URL:https://kciexpo.com/event/time-travelers-vintage-expo-4/
LOCATION:KCI Expo Center\, 11730 NW. Ambassador Dr.\, Kansas City\, MO\, 64153\, United States
CATEGORIES:Antiques,Apparel
ATTACH;FMTTYPE=image/jpeg:https://eodosoufjos.exactdn.com/wp-content/uploads/2026/04/time.jpg
END:VEVENT
BEGIN:VEVENT
DTSTART;VALUE=DATE:20261017
DTEND;VALUE=DATE:20261019
DTSTAMP:20260420T053020
CREATED:20260401T155927Z
LAST-MODIFIED:20260401T155927Z
UID:10000995-1792195200-1792367999@kciexpo.com
SUMMARY:RK Gun Show
DESCRIPTION:Looking for a great way to spend a day or the weekend of October\, 17-18? If you are a gun collector or are a hunting enthusiast\, the gun show at the KCI Expo Center in Kansas City\, MO is a great place to spend some time. RK Shows will have a variety of vendors displaying guns\, hunting supplies\, military surplus and outdoor gear available to teach you\, answer your questions\, and find exactly what you’re looking for. \nSafety is first at all of RK Shows Events\, so we will have security and check-in points for the safety of our attendees and vendors. \nHours:\nSaturday: 8 AM – 5 PM\nSunday: 9 AM – 3 PM \nTickets:\nAdults: $15\, VIP: $17.50 – no line\, no wait\nKids: $6\, VIP: $8.50 – no line\, no wait \n\n  KCI Expo Center  was last modified:  June 26th\, 2015  by
URL:https://kciexpo.com/event/rk-gun-show-60/
LOCATION:KCI Expo Center\, 11730 NW. Ambassador Dr.\, Kansas City\, MO\, 64153\, United States
CATEGORIES:Firearms
ATTACH;FMTTYPE=image/png:https://eodosoufjos.exactdn.com/wp-content/uploads/2024/02/gun-show-750x500-1.png
END:VEVENT
BEGIN:VEVENT
DTSTART;VALUE=DATE:20261021
DTEND;VALUE=DATE:20261022
DTSTAMP:20260420T053020
CREATED:20260401T160150Z
LAST-MODIFIED:20260401T160203Z
UID:10000996-1792540800-1792627199@kciexpo.com
SUMMARY:Education Foundation of NKC School District-Fall Breakfast
DESCRIPTION:KCI Expo Center  was last modified:  June 26th\, 2015  by
URL:https://kciexpo.com/event/education-foundation-of-nkc-school-district-fall-breakfast-2/
LOCATION:KCI Expo Center\, 11730 NW. Ambassador Dr.\, Kansas City\, MO\, 64153\, United States
END:VEVENT
END:VCALENDAR