BEGIN:VCALENDAR
VERSION:2.0
PRODID:-//KCI Expo Center - ECPv6.15.18//NONSGML v1.0//EN
CALSCALE:GREGORIAN
METHOD:PUBLISH
X-WR-CALNAME:KCI Expo Center
X-ORIGINAL-URL:https://kciexpo.com
X-WR-CALDESC:Events for KCI Expo Center
REFRESH-INTERVAL;VALUE=DURATION:PT1H
X-Robots-Tag:noindex
X-PUBLISHED-TTL:PT1H
BEGIN:VTIMEZONE
TZID:America/Chicago
BEGIN:DAYLIGHT
TZOFFSETFROM:-0600
TZOFFSETTO:-0500
TZNAME:CDT
DTSTART:20230312T080000
END:DAYLIGHT
BEGIN:STANDARD
TZOFFSETFROM:-0500
TZOFFSETTO:-0600
TZNAME:CST
DTSTART:20231105T070000
END:STANDARD
BEGIN:DAYLIGHT
TZOFFSETFROM:-0600
TZOFFSETTO:-0500
TZNAME:CDT
DTSTART:20240310T080000
END:DAYLIGHT
BEGIN:STANDARD
TZOFFSETFROM:-0500
TZOFFSETTO:-0600
TZNAME:CST
DTSTART:20241103T070000
END:STANDARD
BEGIN:DAYLIGHT
TZOFFSETFROM:-0600
TZOFFSETTO:-0500
TZNAME:CDT
DTSTART:20250309T080000
END:DAYLIGHT
BEGIN:STANDARD
TZOFFSETFROM:-0500
TZOFFSETTO:-0600
TZNAME:CST
DTSTART:20251102T070000
END:STANDARD
BEGIN:DAYLIGHT
TZOFFSETFROM:-0600
TZOFFSETTO:-0500
TZNAME:CDT
DTSTART:20260308T080000
END:DAYLIGHT
BEGIN:STANDARD
TZOFFSETFROM:-0500
TZOFFSETTO:-0600
TZNAME:CST
DTSTART:20261101T070000
END:STANDARD
BEGIN:DAYLIGHT
TZOFFSETFROM:-0600
TZOFFSETTO:-0500
TZNAME:CDT
DTSTART:20270314T080000
END:DAYLIGHT
BEGIN:STANDARD
TZOFFSETFROM:-0500
TZOFFSETTO:-0600
TZNAME:CST
DTSTART:20271107T070000
END:STANDARD
END:VTIMEZONE
BEGIN:VEVENT
DTSTART;VALUE=DATE:20260321
DTEND;VALUE=DATE:20260323
DTSTAMP:20260421T064839
CREATED:20251113T170829Z
LAST-MODIFIED:20251113T170829Z
UID:10000959-1774051200-1774223999@kciexpo.com
SUMMARY:RK Gun Show
DESCRIPTION:Looking for a great way to spend a day or the weekend of March 21-22\, 2026? If you are a gun collector or are a hunting enthusiast\, the gun show at the KCI Expo Center in Kansas City\, MO is a great place to spend some time. RK Shows will have a variety of vendors displaying guns\, hunting supplies\, military surplus and outdoor gear available to teach you\, answer your questions\, and find exactly what you’re looking for. \nSafety is first at all of RK Shows Events\, so we will have security and check-in points for the safety of our attendees and vendors. \nTickets:\nAdults: $15\, VIP: $17.50 – no line\, no wait\nKids: $6\, VIP: $8.50 – no line\, no wait \n  \n\n  RK Shows  was last modified:  December 21st\, 2016  by
URL:https://kciexpo.com/event/rk-gun-show-57/
LOCATION:KCI Expo Center\, 11730 NW. Ambassador Dr.\, Kansas City\, MO\, 64153\, United States
CATEGORIES:Firearms
ATTACH;FMTTYPE=image/png:https://eodosoufjos.exactdn.com/wp-content/uploads/2024/02/gun-show-750x500-1.png
END:VEVENT
BEGIN:VEVENT
DTSTART;VALUE=DATE:20260214
DTEND;VALUE=DATE:20260216
DTSTAMP:20260421T064839
CREATED:20251113T170718Z
LAST-MODIFIED:20251113T170718Z
UID:10000958-1771027200-1771199999@kciexpo.com
SUMMARY:RK Gun Show
DESCRIPTION:Looking for a great way to spend a day or the weekend of February 14-15\, 2026? If you are a gun collector or are a hunting enthusiast\, the gun show at the KCI Expo Center in Kansas City\, MO is a great place to spend some time. RK Shows will have a variety of vendors displaying guns\, hunting supplies\, military surplus and outdoor gear available to teach you\, answer your questions\, and find exactly what you’re looking for. \nSafety is first at all of RK Shows Events\, so we will have security and check-in points for the safety of our attendees and vendors. \nTickets:\nAdults: $15\, VIP: $17.50 – no line\, no wait\nKids: $6\, VIP: $8.50 – no line\, no wait \n  \n\n  RK Shows  was last modified:  December 21st\, 2016  by
URL:https://kciexpo.com/event/rk-gun-show-56/
LOCATION:KCI Expo Center\, 11730 NW. Ambassador Dr.\, Kansas City\, MO\, 64153\, United States
CATEGORIES:Firearms
ATTACH;FMTTYPE=image/png:https://eodosoufjos.exactdn.com/wp-content/uploads/2024/02/gun-show-750x500-1.png
END:VEVENT
BEGIN:VEVENT
DTSTART;VALUE=DATE:20251227
DTEND;VALUE=DATE:20251229
DTSTAMP:20260421T064839
CREATED:20251008T165712Z
LAST-MODIFIED:20251008T165712Z
UID:10000956-1766793600-1766966399@kciexpo.com
SUMMARY:RK Gun Show
DESCRIPTION:Looking for a great way to spend a day or the weekend of December 27th-28th\, 2025? If you are a gun collector or are a hunting enthusiast\, the gun show at the KCI Expo Center in Kansas City\, MO is a great place to spend some time. RK Shows will have a variety of vendors displaying guns\, hunting supplies\, military surplus and outdoor gear available to teach you\, answer your questions\, and find exactly what you’re looking for. \nSafety is first at all of RK Shows Events\, so we will have security and check-in points for the safety of our attendees and vendors. \nTickets:\nAdults: $15\, VIP: $17.50 – no line\, no wait\nKids: $6\, VIP: $8.50 – no line\, no wait \n  \n\n  RK Shows  was last modified:  December 21st\, 2016  by
URL:https://kciexpo.com/event/rk-gun-show-55/
LOCATION:KCI Expo Center\, 11730 NW. Ambassador Dr.\, Kansas City\, MO\, 64153\, United States
CATEGORIES:Firearms
ATTACH;FMTTYPE=image/png:https://eodosoufjos.exactdn.com/wp-content/uploads/2024/02/gun-show-750x500-1.png
END:VEVENT
BEGIN:VEVENT
DTSTART;VALUE=DATE:20251129
DTEND;VALUE=DATE:20251201
DTSTAMP:20260421T064839
CREATED:20250609T134042Z
LAST-MODIFIED:20250609T134042Z
UID:10000948-1764374400-1764547199@kciexpo.com
SUMMARY:RK Gun Show
DESCRIPTION:Looking for a great way to spend a day or the weekend of November 29th-30th\, 2025? If you are a gun collector or are a hunting enthusiast\, the gun show at the KCI Expo Center in Kansas City\, MO is a great place to spend some time. RK Shows will have a variety of vendors displaying guns\, hunting supplies\, military surplus and outdoor gear available to teach you\, answer your questions\, and find exactly what you’re looking for. \nSafety is first at all of RK Shows Events\, so we will have security and check-in points for the safety of our attendees and vendors. \nTickets:\nAdults: $15\, VIP: $17.50 – no line\, no wait\nKids: $6\, VIP: $8.50 – no line\, no wait \nVIP Tickets can be purchased online\, see below. \n  \n\n  RK Shows  was last modified:  December 21st\, 2016  by
URL:https://kciexpo.com/event/rk-gun-show-53/
LOCATION:KCI Expo Center\, 11730 NW. Ambassador Dr.\, Kansas City\, MO\, 64153\, United States
CATEGORIES:Firearms
ATTACH;FMTTYPE=image/png:https://eodosoufjos.exactdn.com/wp-content/uploads/2024/02/gun-show-750x500-1.png
END:VEVENT
BEGIN:VEVENT
DTSTART;VALUE=DATE:20251018
DTEND;VALUE=DATE:20251020
DTSTAMP:20260421T064839
CREATED:20251008T165433Z
LAST-MODIFIED:20251008T165529Z
UID:10000955-1760745600-1760918399@kciexpo.com
SUMMARY:RK Gun Show
DESCRIPTION:Looking for a great way to spend a day or the weekend of October 18th-19th\, 2025? If you are a gun collector or are a hunting enthusiast\, the gun show at the KCI Expo Center in Kansas City\, MO is a great place to spend some time. RK Shows will have a variety of vendors displaying guns\, hunting supplies\, military surplus and outdoor gear available to teach you\, answer your questions\, and find exactly what you’re looking for. \nSafety is first at all of RK Shows Events\, so we will have security and check-in points for the safety of our attendees and vendors. \nTickets:\nAdults: $15\, VIP: $17.50 – no line\, no wait\nKids: $6\, VIP: $8.50 – no line\, no wait \n  \n\n  RK Shows  was last modified:  December 21st\, 2016  by
URL:https://kciexpo.com/event/rk-gun-show-54/
LOCATION:KCI Expo Center\, 11730 NW. Ambassador Dr.\, Kansas City\, MO\, 64153\, United States
CATEGORIES:Firearms
ATTACH;FMTTYPE=image/png:https://eodosoufjos.exactdn.com/wp-content/uploads/2024/02/gun-show-750x500-1.png
END:VEVENT
BEGIN:VEVENT
DTSTART;VALUE=DATE:20250809
DTEND;VALUE=DATE:20250811
DTSTAMP:20260421T064839
CREATED:20250606T153738Z
LAST-MODIFIED:20250606T153738Z
UID:10000936-1754697600-1754870399@kciexpo.com
SUMMARY:RK Gun Show
DESCRIPTION:Looking for a great way to spend a day or the weekend of July 9-10\, 2025? If you are a gun collector or are a hunting enthusiast\, the gun show at the KCI Expo Center in Kansas City\, MO is a great place to spend some time. RK Shows will have a variety of vendors displaying guns\, hunting supplies\, military surplus and outdoor gear available to teach you\, answer your questions\, and find exactly what you’re looking for. \nSafety is first at all of RK Shows Events\, so we will have security and check-in points for the safety of our attendees and vendors. \nTickets:\nAdults: $15\, VIP: $17.50 – no line\, no wait\nKids: $6\, VIP: $8.50 – no line\, no wait \nVIP Tickets can be purchased online\, see below. \n  \n\n  RK Shows  was last modified:  December 21st\, 2016  by
URL:https://kciexpo.com/event/rk-gun-show-52/
LOCATION:KCI Expo Center\, 11730 NW. Ambassador Dr.\, Kansas City\, MO\, 64153\, United States
CATEGORIES:Firearms
ATTACH;FMTTYPE=image/png:https://eodosoufjos.exactdn.com/wp-content/uploads/2024/02/gun-show-750x500-1.png
END:VEVENT
BEGIN:VEVENT
DTSTART;VALUE=DATE:20250613
DTEND;VALUE=DATE:20250615
DTSTAMP:20260421T064839
CREATED:20250204T220037Z
LAST-MODIFIED:20250204T220037Z
UID:10000916-1749772800-1749945599@kciexpo.com
SUMMARY:RK Gun Show
DESCRIPTION:Looking for a great way to spend a day or the weekend of June 13-14\, 2025? If you are a gun collector or are a hunting enthusiast\, the gun show at the KCI Expo Center in Kansas City\, MO is a great place to spend some time. RK Shows will have a variety of vendors displaying guns\, hunting supplies\, military surplus and outdoor gear available to teach you\, answer your questions\, and find exactly what you’re looking for. \nSafety is first at all of RK Shows Events\, so we will have security and check-in points for the safety of our attendees and vendors. \nTickets:\nAdults: $15\, VIP: $17.50 – no line\, no wait\nKids: $6\, VIP: $8.50 – no line\, no wait \nVIP Tickets can be purchased online\, see below. \n  \n\n  RK Shows  was last modified:  December 21st\, 2016  by
URL:https://kciexpo.com/event/rk-gun-show-49/
CATEGORIES:Firearms
ATTACH;FMTTYPE=image/png:https://eodosoufjos.exactdn.com/wp-content/uploads/2024/02/gun-show-750x500-1.png
END:VEVENT
BEGIN:VEVENT
DTSTART;VALUE=DATE:20250322
DTEND;VALUE=DATE:20250324
DTSTAMP:20260421T064839
CREATED:20241008T164303Z
LAST-MODIFIED:20241008T164303Z
UID:10000894-1742601600-1742774399@kciexpo.com
SUMMARY:RK Gun Show
DESCRIPTION:Looking for a great way to spend a day or the weekend of March 22-23\, 2025? If you are a gun collector or are a hunting enthusiast\, the gun show at the KCI Expo Center in Kansas City\, MO is a great place to spend some time. RK Shows will have a variety of vendors displaying guns\, hunting supplies\, military surplus and outdoor gear available to teach you\, answer your questions\, and find exactly what you’re looking for. \nSafety is first at all of RK Shows Events\, so we will have security and check-in points for the safety of our attendees and vendors. \nTickets:\nAdults: $15\, VIP: $17.50 – no line\, no wait\nKids: $6\, VIP: $8.50 – no line\, no wait \nVIP Tickets can be purchased online\, see below. \n  \n\n  RK Shows  was last modified:  December 21st\, 2016  by
URL:https://kciexpo.com/event/rk-gun-show-51/
CATEGORIES:Firearms
ATTACH;FMTTYPE=image/png:https://eodosoufjos.exactdn.com/wp-content/uploads/2024/02/gun-show-750x500-1.png
END:VEVENT
BEGIN:VEVENT
DTSTART;VALUE=DATE:20250215
DTEND;VALUE=DATE:20250217
DTSTAMP:20260421T064839
CREATED:20241008T163946Z
LAST-MODIFIED:20241008T163946Z
UID:10000893-1739577600-1739750399@kciexpo.com
SUMMARY:RK Gun Show
DESCRIPTION:Looking for a great way to spend a day or the weekend of February 15-16\, 2025? If you are a gun collector or are a hunting enthusiast\, the gun show at the KCI Expo Center in Kansas City\, MO is a great place to spend some time. RK Shows will have a variety of vendors displaying guns\, hunting supplies\, military surplus and outdoor gear available to teach you\, answer your questions\, and find exactly what you’re looking for. \nSafety is first at all of RK Shows Events\, so we will have security and check-in points for the safety of our attendees and vendors. \nTickets:\nAdults: $15\, VIP: $17.50 – no line\, no wait\nKids: $6\, VIP: $8.50 – no line\, no wait \nVIP Tickets can be purchased online\, see below. \n  \n\n  RK Shows  was last modified:  December 21st\, 2016  by
URL:https://kciexpo.com/event/rk-gun-show-50/
CATEGORIES:Firearms
ATTACH;FMTTYPE=image/png:https://eodosoufjos.exactdn.com/wp-content/uploads/2024/02/gun-show-750x500-1.png
END:VEVENT
BEGIN:VEVENT
DTSTART;TZID=America/Chicago:20241228T080000
DTEND;TZID=America/Chicago:20241229T150000
DTSTAMP:20260421T064839
CREATED:20240222T181001Z
LAST-MODIFIED:20241127T143640Z
UID:10000888-1735372800-1735484400@kciexpo.com
SUMMARY:RK Gun Show
DESCRIPTION:Looking for a great way to spend a day or the weekend of December 28-29\, 2024? If you are a gun collector or are a hunting enthusiast\, the gun show at the KCI Expo Center in Kansas City\, MO is a great place to spend some time. RK Shows will have a variety of vendors displaying guns\, hunting supplies\, military surplus and outdoor gear available to teach you\, answer your questions\, and find exactly what you’re looking for. \nSafety is first at all of RK Shows Events\, so we will have security and check-in points for the safety of our attendees and vendors. \nHours:\nSaturday: 8 AM – 5 PM\nSunday: 9 AM – 3 PM \nTickets:\nAdults: $15\, VIP: $17.50 – no line\, no wait\nKids: $6\, VIP: $8.50 – no line\, no wait \nVIP Tickets can be purchased online\, see below. \nDealer Set Up:\nFriday: NOON – 7 PM\nSaturday: 7 AM – 8 AM \n  \n\n  RK Shows  was last modified:  December 21st\, 2016  by
URL:https://kciexpo.com/event/rk-gun-show-48/
CATEGORIES:Firearms
ATTACH;FMTTYPE=image/png:https://eodosoufjos.exactdn.com/wp-content/uploads/2024/02/gun-show-750x500-1.png
END:VEVENT
BEGIN:VEVENT
DTSTART;TZID=America/Chicago:20241130T080000
DTEND;TZID=America/Chicago:20241201T150000
DTSTAMP:20260421T064839
CREATED:20240222T180830Z
LAST-MODIFIED:20241008T163331Z
UID:10000887-1732953600-1733065200@kciexpo.com
SUMMARY:RK Gun Show
DESCRIPTION:Looking for a great way to spend a day or the weekend of November 30-December 1\, 2024? If you are a gun collector or are a hunting enthusiast\, the gun show at the KCI Expo Center in Kansas City\, MO is a great place to spend some time. RK Shows will have a variety of vendors displaying guns\, hunting supplies\, military surplus and outdoor gear available to teach you\, answer your questions\, and find exactly what you’re looking for. \nSafety is first at all of RK Shows Events\, so we will have security and check-in points for the safety of our attendees and vendors. \nHours:\nSaturday: 8 AM – 5 PM\nSunday: 9 AM – 3 PM \nTickets:\nAdults: $15\, VIP: $17.50 – no line\, no wait\nKids: $6\, VIP: $8.50 – no line\, no wait \nVIP Tickets can be purchased online\, see below. \nDealer Set Up:\nFriday: NOON – 7 PM\nSaturday: 7 AM – 8 AM \n\n  RK Shows  was last modified:  December 21st\, 2016  by
URL:https://kciexpo.com/event/rk-gun-show-47/
CATEGORIES:Firearms
ATTACH;FMTTYPE=image/png:https://eodosoufjos.exactdn.com/wp-content/uploads/2024/02/gun-show-750x500-1.png
END:VEVENT
BEGIN:VEVENT
DTSTART;TZID=America/Chicago:20241019T080000
DTEND;TZID=America/Chicago:20241020T150000
DTSTAMP:20260421T064839
CREATED:20240222T175255Z
LAST-MODIFIED:20240726T191025Z
UID:10000883-1729324800-1729436400@kciexpo.com
SUMMARY:RK Gun Show
DESCRIPTION:Looking for a great way to spend a day or the weekend of October 19-20\, 2024? If you are a gun collector or are a hunting enthusiast\, the gun show at the KCI Expo Center in Kansas City\, MO is a great place to spend some time. RK Shows will have a variety of vendors displaying guns\, hunting supplies\, military surplus and outdoor gear available to teach you\, answer your questions\, and find exactly what you’re looking for. \nSafety is first at all of RK Shows Events\, so we will have security and check-in points for the safety of our attendees and vendors. \nHours:\nSaturday: 8 AM – 5 PM\nSunday: 9 AM – 3 PM \nTickets:\nAdults: $14\, VIP: $16.50 – no line\, no wait\nKids: $6\, VIP: $8.50 – no line\, no wait \nVIP Tickets can be purchased online\, see below. \nDealer Set Up:\nFriday: NOON – 7 PM\nSaturday: 7 AM – 8 AM \n\n  RK Shows  was last modified:  December 21st\, 2016  by
URL:https://kciexpo.com/event/rk-gun-show-46/
CATEGORIES:Firearms
ATTACH;FMTTYPE=image/png:https://eodosoufjos.exactdn.com/wp-content/uploads/2024/02/gun-show-750x500-1.png
END:VEVENT
END:VCALENDAR