BEGIN:VCALENDAR
VERSION:2.0
PRODID:-//KCI Expo Center - ECPv6.15.18//NONSGML v1.0//EN
CALSCALE:GREGORIAN
METHOD:PUBLISH
X-ORIGINAL-URL:https://kciexpo.com
X-WR-CALDESC:Events for KCI Expo Center
REFRESH-INTERVAL;VALUE=DURATION:PT1H
X-Robots-Tag:noindex
X-PUBLISHED-TTL:PT1H
BEGIN:VTIMEZONE
TZID:America/Chicago
BEGIN:DAYLIGHT
TZOFFSETFROM:-0600
TZOFFSETTO:-0500
TZNAME:CDT
DTSTART:20230312T080000
END:DAYLIGHT
BEGIN:STANDARD
TZOFFSETFROM:-0500
TZOFFSETTO:-0600
TZNAME:CST
DTSTART:20231105T070000
END:STANDARD
BEGIN:DAYLIGHT
TZOFFSETFROM:-0600
TZOFFSETTO:-0500
TZNAME:CDT
DTSTART:20240310T080000
END:DAYLIGHT
BEGIN:STANDARD
TZOFFSETFROM:-0500
TZOFFSETTO:-0600
TZNAME:CST
DTSTART:20241103T070000
END:STANDARD
BEGIN:DAYLIGHT
TZOFFSETFROM:-0600
TZOFFSETTO:-0500
TZNAME:CDT
DTSTART:20250309T080000
END:DAYLIGHT
BEGIN:STANDARD
TZOFFSETFROM:-0500
TZOFFSETTO:-0600
TZNAME:CST
DTSTART:20251102T070000
END:STANDARD
BEGIN:DAYLIGHT
TZOFFSETFROM:-0600
TZOFFSETTO:-0500
TZNAME:CDT
DTSTART:20260308T080000
END:DAYLIGHT
BEGIN:STANDARD
TZOFFSETFROM:-0500
TZOFFSETTO:-0600
TZNAME:CST
DTSTART:20261101T070000
END:STANDARD
BEGIN:DAYLIGHT
TZOFFSETFROM:-0600
TZOFFSETTO:-0500
TZNAME:CDT
DTSTART:20270314T080000
END:DAYLIGHT
BEGIN:STANDARD
TZOFFSETFROM:-0500
TZOFFSETTO:-0600
TZNAME:CST
DTSTART:20271107T070000
END:STANDARD
END:VTIMEZONE
BEGIN:VEVENT
DTSTART;VALUE=DATE:20260328
DTEND;VALUE=DATE:20260330
DTSTAMP:20260422T175427
CREATED:20260220T195950Z
LAST-MODIFIED:20260220T195950Z
UID:10000970-1774656000-1774828799@kciexpo.com
SUMMARY:Pence Estate Auction
DESCRIPTION:WELCOME! \nA respected leader in the estate sale and fine art auction business since 1982.\nPence Auction and Pence Estate Sales are a multi-generational\ntradition of excellence\, integrity and focus.\nWe provide uncompromising attention to all of your estate\, auction and appraisal needs.\nContact us today and let us know how we can help! \n  Pence Estate Auction  was last modified:  February 22nd\, 2024  by
URL:https://kciexpo.com/event/pence-estate-auction-9/
LOCATION:KCI Expo Center\, 11730 NW. Ambassador Dr.\, Kansas City\, MO\, 64153\, United States
CATEGORIES:Antiques
ATTACH;FMTTYPE=image/png:https://eodosoufjos.exactdn.com/wp-content/uploads/2024/02/Pence_Auction_Esales.png
END:VEVENT
BEGIN:VEVENT
DTSTART;VALUE=DATE:20260131
DTEND;VALUE=DATE:20260201
DTSTAMP:20260422T175427
CREATED:20260105T222448Z
LAST-MODIFIED:20260105T222448Z
UID:10000966-1769817600-1769903999@kciexpo.com
SUMMARY:Pence Estate Auction
DESCRIPTION:WELCOME! \nA respected leader in the estate sale and fine art auction business since 1982.\nPence Auction and Pence Estate Sales are a multi-generational\ntradition of excellence\, integrity and focus.\nWe provide uncompromising attention to all of your estate\, auction and appraisal needs.\nContact us today and let us know how we can help! \n  Pence Estate Auction  was last modified:  February 22nd\, 2024  by
URL:https://kciexpo.com/event/pence-estate-auction-8/
LOCATION:KCI Expo Center\, 11730 NW. Ambassador Dr.\, Kansas City\, MO\, 64153\, United States
CATEGORIES:Antiques
ATTACH;FMTTYPE=image/png:https://eodosoufjos.exactdn.com/wp-content/uploads/2024/02/Pence_Auction_Esales.png
END:VEVENT
BEGIN:VEVENT
DTSTART;VALUE=DATE:20251213
DTEND;VALUE=DATE:20251214
DTSTAMP:20260422T175427
CREATED:20251209T145935Z
LAST-MODIFIED:20251209T145935Z
UID:10000960-1765584000-1765670399@kciexpo.com
SUMMARY:Pence Estate Auction
DESCRIPTION:WELCOME! \nA respected leader in the estate sale and fine art auction business since 1982.\nPence Auction and Pence Estate Sales are a multi-generational\ntradition of excellence\, integrity and focus.\nWe provide uncompromising attention to all of your estate\, auction and appraisal needs.\nContact us today and let us know how we can help! \n  Pence Estate Auction  was last modified:  February 22nd\, 2024  by
URL:https://kciexpo.com/event/pence-estate-auction-7/
LOCATION:KCI Expo Center\, 11730 NW. Ambassador Dr.\, Kansas City\, MO\, 64153\, United States
CATEGORIES:Antiques
ATTACH;FMTTYPE=image/png:https://eodosoufjos.exactdn.com/wp-content/uploads/2024/02/Pence_Auction_Esales.png
END:VEVENT
BEGIN:VEVENT
DTSTART;VALUE=DATE:20250816
DTEND;VALUE=DATE:20250817
DTSTAMP:20260422T175427
CREATED:20250606T154055Z
LAST-MODIFIED:20250606T154055Z
UID:10000938-1755302400-1755388799@kciexpo.com
SUMMARY:Pence Estate Auction
DESCRIPTION:WELCOME! \nA respected leader in the estate sale and fine art auction business since 1982.\nPence Auction and Pence Estate Sales are a multi-generational\ntradition of excellence\, integrity and focus.\nWe provide uncompromising attention to all of your estate\, auction and appraisal needs.\nContact us today and let us know how we can help! \n  Pence Estate Auction  was last modified:  February 22nd\, 2024  by
URL:https://kciexpo.com/event/pence-estate-auction-6/
LOCATION:KCI Expo Center\, 11730 NW. Ambassador Dr.\, Kansas City\, MO\, 64153\, United States
CATEGORIES:Antiques
ATTACH;FMTTYPE=image/png:https://eodosoufjos.exactdn.com/wp-content/uploads/2024/02/Pence_Auction_Esales.png
END:VEVENT
BEGIN:VEVENT
DTSTART;VALUE=DATE:20250315
DTEND;VALUE=DATE:20250316
DTSTAMP:20260422T175427
CREATED:20250204T213232Z
LAST-MODIFIED:20250204T213250Z
UID:10000910-1741996800-1742083199@kciexpo.com
SUMMARY:Pence Estate Auction
DESCRIPTION:WELCOME! \nA respected leader in the estate sale and fine art auction business since 1982.\nPence Auction and Pence Estate Sales are a multi-generational\ntradition of excellence\, integrity and focus.\nWe provide uncompromising attention to all of your estate\, auction and appraisal needs.\nContact us today and let us know how we can help! \n  Pence Estate Auction  was last modified:  February 22nd\, 2024  by
URL:https://kciexpo.com/event/pence-estate-auction-5/
CATEGORIES:Antiques
ATTACH;FMTTYPE=image/png:https://eodosoufjos.exactdn.com/wp-content/uploads/2024/02/Pence_Auction_Esales.png
END:VEVENT
BEGIN:VEVENT
DTSTART;VALUE=DATE:20250104
DTEND;VALUE=DATE:20250105
DTSTAMP:20260422T175427
CREATED:20241127T143820Z
LAST-MODIFIED:20241127T143820Z
UID:10000906-1735948800-1736035199@kciexpo.com
SUMMARY:Pence Estate Auction
DESCRIPTION:WELCOME! \nA respected leader in the estate sale and fine art auction business since 1982.\nPence Auction and Pence Estate Sales are a multi-generational\ntradition of excellence\, integrity and focus.\nWe provide uncompromising attention to all of your estate\, auction and appraisal needs.\nContact us today and let us know how we can help! \n  Pence Estate Auction  was last modified:  February 22nd\, 2024  by
URL:https://kciexpo.com/event/pence-estate-auction-4/
CATEGORIES:Antiques
ATTACH;FMTTYPE=image/png:https://eodosoufjos.exactdn.com/wp-content/uploads/2024/02/Pence_Auction_Esales.png
END:VEVENT
BEGIN:VEVENT
DTSTART;VALUE=DATE:20240601
DTEND;VALUE=DATE:20240602
DTSTAMP:20260422T175427
CREATED:20240222T171145Z
LAST-MODIFIED:20240222T194407Z
UID:10000871-1717200000-1717286399@kciexpo.com
SUMMARY:Pence Estate Auction
DESCRIPTION:WELCOME! \nA respected leader in the estate sale and fine art auction business since 1982.\nPence Auction and Pence Estate Sales are a multi-generational\ntradition of excellence\, integrity and focus.\nWe provide uncompromising attention to all of your estate\, auction and appraisal needs.\nContact us today and let us know how we can help! \n  Pence Estate Auction  was last modified:  February 22nd\, 2024  by
URL:https://kciexpo.com/event/pence-estate-auction-3/
CATEGORIES:Antiques
ATTACH;FMTTYPE=image/png:https://eodosoufjos.exactdn.com/wp-content/uploads/2024/02/Pence_Auction_Esales.png
END:VEVENT
BEGIN:VEVENT
DTSTART;VALUE=DATE:20240330
DTEND;VALUE=DATE:20240331
DTSTAMP:20260422T175427
CREATED:20240222T164530Z
LAST-MODIFIED:20240222T193632Z
UID:10000859-1711756800-1711843199@kciexpo.com
SUMMARY:Pence Estate Auction
DESCRIPTION:WELCOME! \nA respected leader in the estate sale and fine art auction business since 1982.\nPence Auction and Pence Estate Sales are a multi-generational\ntradition of excellence\, integrity and focus.\nWe provide uncompromising attention to all of your estate\, auction and appraisal needs.\nContact us today and let us know how we can help! \n  Pence Estate Auction  was last modified:  February 22nd\, 2024  by
URL:https://kciexpo.com/event/pence-estate-auction-2/
CATEGORIES:Antiques
ATTACH;FMTTYPE=image/png:https://eodosoufjos.exactdn.com/wp-content/uploads/2024/02/Pence_Auction_Esales.png
END:VEVENT
BEGIN:VEVENT
DTSTART;VALUE=DATE:20240316
DTEND;VALUE=DATE:20240317
DTSTAMP:20260422T175427
CREATED:20240222T163141Z
LAST-MODIFIED:20240222T181620Z
UID:10000857-1710547200-1710633599@kciexpo.com
SUMMARY:Pence Estate Auction
DESCRIPTION:WELCOME! \nA respected leader in the estate sale and fine art auction business since 1982.\nPence Auction and Pence Estate Sales are a multi-generational\ntradition of excellence\, integrity and focus.\nWe provide uncompromising attention to all of your estate\, auction and appraisal needs.\nContact us today and let us know how we can help! \n  Pence Estate Auction  was last modified:  February 22nd\, 2024  by
URL:https://kciexpo.com/event/pence-estate-auction/
CATEGORIES:Antiques
ATTACH;FMTTYPE=image/png:https://eodosoufjos.exactdn.com/wp-content/uploads/2024/02/Pence_Auction_Esales.png
END:VEVENT
END:VCALENDAR