BEGIN:VCALENDAR
VERSION:2.0
PRODID:-//KCI Expo Center - ECPv6.15.18//NONSGML v1.0//EN
CALSCALE:GREGORIAN
METHOD:PUBLISH
X-WR-CALNAME:KCI Expo Center
X-ORIGINAL-URL:https://kciexpo.com
X-WR-CALDESC:Events for KCI Expo Center
REFRESH-INTERVAL;VALUE=DURATION:PT1H
X-Robots-Tag:noindex
X-PUBLISHED-TTL:PT1H
BEGIN:VTIMEZONE
TZID:America/Chicago
BEGIN:DAYLIGHT
TZOFFSETFROM:-0600
TZOFFSETTO:-0500
TZNAME:CDT
DTSTART:20250309T080000
END:DAYLIGHT
BEGIN:STANDARD
TZOFFSETFROM:-0500
TZOFFSETTO:-0600
TZNAME:CST
DTSTART:20251102T070000
END:STANDARD
BEGIN:DAYLIGHT
TZOFFSETFROM:-0600
TZOFFSETTO:-0500
TZNAME:CDT
DTSTART:20260308T080000
END:DAYLIGHT
BEGIN:STANDARD
TZOFFSETFROM:-0500
TZOFFSETTO:-0600
TZNAME:CST
DTSTART:20261101T070000
END:STANDARD
BEGIN:DAYLIGHT
TZOFFSETFROM:-0600
TZOFFSETTO:-0500
TZNAME:CDT
DTSTART:20270314T080000
END:DAYLIGHT
BEGIN:STANDARD
TZOFFSETFROM:-0500
TZOFFSETTO:-0600
TZNAME:CST
DTSTART:20271107T070000
END:STANDARD
END:VTIMEZONE
BEGIN:VEVENT
DTSTART;VALUE=DATE:20260130
DTEND;VALUE=DATE:20260202
DTSTAMP:20260424T141001
CREATED:20260105T222716Z
LAST-MODIFIED:20260105T222716Z
UID:10000967-1769731200-1769990399@kciexpo.com
SUMMARY:Dinosaur Adventure
DESCRIPTION:  \n\nStep into the world of prehistoric giants at Dinosaur Adventure\, a unique exhibit showcasing life-sized\, realistic dinosaurs that move and roar just like the real thing! Children’s Activities: Kids can dive into fun-filled activities\, including Jurassic scooters\, themed obstacle courses\, dinosaur rides\, and more! \n  \nDates & Time \nFriday\, January 30\, 2026 : 12:00pm – 8:00pm \nSaturday\, January 31\, 2026 : 9:00am – 7:00pm \nSunday\, February 1\, 2026 : 9:00am – 6:00pm \nYou may arrive at any time. \n  \nAddress: \nKCI Expo Center \n11730 N Ambassador Dr\, Kansas City\, MO 64153 \n  \n🦖 Bring your family and experience: \n🔸 LIFE-SIZE DINOSAURS that come to life with movement and roars! \n🔸 FOSSIL DIGS where kids can uncover ancient fossils. \n🔸 JURASSIC SCOOTERS—ride on dino-shaped scooters for extra fun! \n🔸 GEMSTONE MINING to take home sparkling treasures. \n🔸 BABY DINOSAUR ENCOUNTERS—pet and interact with playful dino hatchlings! \n🔸 FACE PAINTING—transform into your favorite dinosaur. \n🔸 GREEN SCREEN PHOTOS—choose from 3 Jurassic backgrounds to share with friends and family. \n🔸 COLORING STATION—let creativity run wild with fun dinosaur-themed coloring activities! \n🔸 PREHISTORIC PLAYGROUND with dinosaur themed bounce houses. \n  \n*Activities are subject to change depending on venue.* \n  \nHelpful Tips:1️⃣ Strollers and wagons are welcome. \n2️⃣ Don’t forget socks for the inflatables! \n3️⃣ Don’t wear green if you plan on taking a green screen photo! \n4️⃣ You’re welcome to stay as long as you’d like\, and re-entry is allowed on the same day. \n5️⃣ Bring your camera—plenty of dino-sized photo ops await! 📸 \n6️⃣ Concessions Available—Most venues have concession stands open for snacks and drinks. \n  \n  \nTicket Info \nParents and children ages 2 and up must have an Admission ticket to enter the Dinosaur Exhibit. Children under 2 enter for free and can join in most dinosaur themed activities. All events are held indoors. You may arrive at any time and stay as long as you’d like. Children under 2 enter for free. \n  \nAdventure Packs \nTake the adventure home with your very own Adventure Souvenir Pack! \nEach pack includes: \n\nDinosaur Adventure drawstring backpack\nHatch-a-dinosaur egg\nDinosaur Adventure toy\nFossil dig block\nSticker pack\n\nUltimate Adventure Pack: \nEach pack includes: \n\nOne Adventure Pack\nDinosaur Adventure T-Shirt\nOne Mining or Panning Bag\nFamily Green Screen Photo\n\n  \nSunday Access for Sensory-Friendly Families! \nTo provide a more comfortable experience\, we will be opening at 8:30 AM on Sundays specifically for families with children who have special needs or sensory sensitivities. This quieter time allows families to enjoy the event before general admission begins.
URL:https://kciexpo.com/event/dinosaur-adventure-5/
LOCATION:KCI Expo Center\, 11730 NW. Ambassador Dr.\, Kansas City\, MO\, 64153\, United States
CATEGORIES:Children's Education
ATTACH;FMTTYPE=image/jpeg:https://eodosoufjos.exactdn.com/wp-content/uploads/2025/02/DINO-ADVENTURE-2023-B-ROLL.mp4.00_08_45_17.Still001.jpg
END:VEVENT
BEGIN:VEVENT
DTSTART;VALUE=DATE:20260204
DTEND;VALUE=DATE:20260205
DTSTAMP:20260424T141001
CREATED:20250609T134841Z
LAST-MODIFIED:20250609T134841Z
UID:10000952-1770163200-1770249599@kciexpo.com
SUMMARY:Private Event
DESCRIPTION:
URL:https://kciexpo.com/event/private-event-72/
CATEGORIES:Private
ATTACH;FMTTYPE=image/png:https://eodosoufjos.exactdn.com/wp-content/uploads/2024/05/private-event.png
END:VEVENT
BEGIN:VEVENT
DTSTART;VALUE=DATE:20260210
DTEND;VALUE=DATE:20260213
DTSTAMP:20260424T141001
CREATED:20260105T215908Z
LAST-MODIFIED:20260105T215908Z
UID:10000961-1770681600-1770940799@kciexpo.com
SUMMARY:Private Event
DESCRIPTION:
URL:https://kciexpo.com/event/private-event-73/
CATEGORIES:Private
ATTACH;FMTTYPE=image/png:https://eodosoufjos.exactdn.com/wp-content/uploads/2024/05/private-event.png
END:VEVENT
BEGIN:VEVENT
DTSTART;VALUE=DATE:20260214
DTEND;VALUE=DATE:20260216
DTSTAMP:20260424T141001
CREATED:20251113T170718Z
LAST-MODIFIED:20251113T170718Z
UID:10000958-1771027200-1771199999@kciexpo.com
SUMMARY:RK Gun Show
DESCRIPTION:Looking for a great way to spend a day or the weekend of February 14-15\, 2026? If you are a gun collector or are a hunting enthusiast\, the gun show at the KCI Expo Center in Kansas City\, MO is a great place to spend some time. RK Shows will have a variety of vendors displaying guns\, hunting supplies\, military surplus and outdoor gear available to teach you\, answer your questions\, and find exactly what you’re looking for. \nSafety is first at all of RK Shows Events\, so we will have security and check-in points for the safety of our attendees and vendors. \nTickets:\nAdults: $15\, VIP: $17.50 – no line\, no wait\nKids: $6\, VIP: $8.50 – no line\, no wait \n 
URL:https://kciexpo.com/event/rk-gun-show-56/
LOCATION:KCI Expo Center\, 11730 NW. Ambassador Dr.\, Kansas City\, MO\, 64153\, United States
CATEGORIES:Firearms
ATTACH;FMTTYPE=image/png:https://eodosoufjos.exactdn.com/wp-content/uploads/2024/02/gun-show-750x500-1.png
END:VEVENT
BEGIN:VEVENT
DTSTART;VALUE=DATE:20260220
DTEND;VALUE=DATE:20260222
DTSTAMP:20260424T141001
CREATED:20250609T134951Z
LAST-MODIFIED:20250609T134951Z
UID:10000953-1771545600-1771718399@kciexpo.com
SUMMARY:DAX: Decorator Apparel Show
DESCRIPTION:The Decorated Apparel Expo is the embroidery\, digital garment decorating and screen printing industry’s top-rated trade show! \nWe’re excited to welcome you back to DAX Kansas City at the KCI Expo Center\, conveniently located right across from the airport. Come explore a trade floor packed with exhibitors eager to showcase the latest products and equipment that you need to boost your business! \nEarly Bird pricing ends on 2/6. Through that date\, attendee registration is FREE and education sessions are discounted! Register TODAY!
URL:https://kciexpo.com/event/dax-decorator-apparel-show-3/
CATEGORIES:Apparel
ATTACH;FMTTYPE=image/jpeg:https://eodosoufjos.exactdn.com/wp-content/uploads/2024/02/DAX.jpg
END:VEVENT
BEGIN:VEVENT
DTSTART;VALUE=DATE:20260227
DTEND;VALUE=DATE:20260302
DTSTAMP:20260424T141001
CREATED:20260220T195546Z
LAST-MODIFIED:20260220T195546Z
UID:10000968-1772150400-1772409599@kciexpo.com
SUMMARY:Private Event
DESCRIPTION:
URL:https://kciexpo.com/event/private-event-76/
CATEGORIES:Private
ATTACH;FMTTYPE=image/png:https://eodosoufjos.exactdn.com/wp-content/uploads/2024/05/private-event.png
END:VEVENT
END:VCALENDAR