BEGIN:VCALENDAR
VERSION:2.0
PRODID:-//KCI Expo Center - ECPv6.15.18//NONSGML v1.0//EN
CALSCALE:GREGORIAN
METHOD:PUBLISH
X-WR-CALNAME:KCI Expo Center
X-ORIGINAL-URL:https://kciexpo.com
X-WR-CALDESC:Events for KCI Expo Center
REFRESH-INTERVAL;VALUE=DURATION:PT1H
X-Robots-Tag:noindex
X-PUBLISHED-TTL:PT1H
BEGIN:VTIMEZONE
TZID:America/Chicago
BEGIN:DAYLIGHT
TZOFFSETFROM:-0600
TZOFFSETTO:-0500
TZNAME:CDT
DTSTART:20240310T080000
END:DAYLIGHT
BEGIN:STANDARD
TZOFFSETFROM:-0500
TZOFFSETTO:-0600
TZNAME:CST
DTSTART:20241103T070000
END:STANDARD
BEGIN:DAYLIGHT
TZOFFSETFROM:-0600
TZOFFSETTO:-0500
TZNAME:CDT
DTSTART:20250309T080000
END:DAYLIGHT
BEGIN:STANDARD
TZOFFSETFROM:-0500
TZOFFSETTO:-0600
TZNAME:CST
DTSTART:20251102T070000
END:STANDARD
BEGIN:DAYLIGHT
TZOFFSETFROM:-0600
TZOFFSETTO:-0500
TZNAME:CDT
DTSTART:20260308T080000
END:DAYLIGHT
BEGIN:STANDARD
TZOFFSETFROM:-0500
TZOFFSETTO:-0600
TZNAME:CST
DTSTART:20261101T070000
END:STANDARD
END:VTIMEZONE
BEGIN:VEVENT
DTSTART;VALUE=DATE:20250930
DTEND;VALUE=DATE:20251003
DTSTAMP:20260424T192657
CREATED:20250609T132606Z
LAST-MODIFIED:20250609T132606Z
UID:10000942-1759190400-1759449599@kciexpo.com
SUMMARY:Private Event
DESCRIPTION:
URL:https://kciexpo.com/event/private-event-67/
CATEGORIES:Private
ATTACH;FMTTYPE=image/png:https://eodosoufjos.exactdn.com/wp-content/uploads/2024/05/private-event.png
END:VEVENT
BEGIN:VEVENT
DTSTART;TZID=America/Chicago:20251010T080000
DTEND;TZID=America/Chicago:20251016T170000
DTSTAMP:20260424T192657
CREATED:20250609T133007Z
LAST-MODIFIED:20250916T202903Z
UID:10000943-1760083200-1760634000@kciexpo.com
SUMMARY:Darts TOC
DESCRIPTION:Come to the KCI Expo for the Darts Tournament of Champions! \n\n  \n 
URL:https://kciexpo.com/event/darts-toc-2/
CATEGORIES:Tournaments
ATTACH;FMTTYPE=image/jpeg:https://eodosoufjos.exactdn.com/wp-content/uploads/2025/06/TOC-2025-Graphic-1.jpg
END:VEVENT
BEGIN:VEVENT
DTSTART;VALUE=DATE:20251018
DTEND;VALUE=DATE:20251020
DTSTAMP:20260424T192657
CREATED:20251008T165433Z
LAST-MODIFIED:20251008T165529Z
UID:10000955-1760745600-1760918399@kciexpo.com
SUMMARY:RK Gun Show
DESCRIPTION:Looking for a great way to spend a day or the weekend of October 18th-19th\, 2025? If you are a gun collector or are a hunting enthusiast\, the gun show at the KCI Expo Center in Kansas City\, MO is a great place to spend some time. RK Shows will have a variety of vendors displaying guns\, hunting supplies\, military surplus and outdoor gear available to teach you\, answer your questions\, and find exactly what you’re looking for. \nSafety is first at all of RK Shows Events\, so we will have security and check-in points for the safety of our attendees and vendors. \nTickets:\nAdults: $15\, VIP: $17.50 – no line\, no wait\nKids: $6\, VIP: $8.50 – no line\, no wait \n 
URL:https://kciexpo.com/event/rk-gun-show-54/
LOCATION:KCI Expo Center\, 11730 NW. Ambassador Dr.\, Kansas City\, MO\, 64153\, United States
CATEGORIES:Firearms
ATTACH;FMTTYPE=image/png:https://eodosoufjos.exactdn.com/wp-content/uploads/2024/02/gun-show-750x500-1.png
END:VEVENT
BEGIN:VEVENT
DTSTART;TZID=America/Chicago:20251025T100000
DTEND;TZID=America/Chicago:20251025T170000
DTSTAMP:20260424T192657
CREATED:20250204T221652Z
LAST-MODIFIED:20251010T163841Z
UID:10000921-1761386400-1761411600@kciexpo.com
SUMMARY:Time Travelers Vintage Expo
DESCRIPTION:Time Travelers Vintage Expo is the largest traveling retro vintage market in the United States\, currently visiting 17 cities from coast to coast. Attendees can expect to find a retro wonderland with the absolute best in vintage clothing\, home goods\, retro-inspired handmade\, and more! Our vendors are carefully selected from across the country for a highly curated shopping experience and offer a wide range of styles and price points. We strive to create an inclusive space focused on community\, sustainability\, and creativity while supporting the dreams of 80-120 small businesses\, curators\, and artists per show. There is something for every vintage lover at Time Travelers Vintage Expo!
URL:https://kciexpo.com/event/time-travelers-vintage-expo-3/
LOCATION:KCI Expo Center\, 11730 NW. Ambassador Dr.\, Kansas City\, MO\, 64153\, United States
CATEGORIES:Antiques,Apparel
ATTACH;FMTTYPE=image/webp:https://eodosoufjos.exactdn.com/wp-content/uploads/2025/02/time-travelers-2.webp
END:VEVENT
BEGIN:VEVENT
DTSTART;TZID=America/Chicago:20251031T100000
DTEND;TZID=America/Chicago:20251102T190000
DTSTAMP:20260424T192657
CREATED:20250204T221912Z
LAST-MODIFIED:20250204T221912Z
UID:10000922-1761904800-1762110000@kciexpo.com
SUMMARY:Shows of Integrity
DESCRIPTION:46th Annual Kansas City Gem\, Mineral\, Jewelry\, & Bead Show\n\n\n\n\nRetail & Wholesale\n\n\nKCI Expo Center \n11730 NW Ambassador Dr \nKansas City\, MO 64153 \nOctober 31\, November 1 & 2\, 2025 \n\n\nOur November Show began in 1978. We bring in Retail and Wholesale Dealers from all over the world to provide a wide selection of Gems\, Minerals\, Jewelry\, Beads & Gifts.  We encourage the public to come out and take advantage of our extensive vendor merchandise. We’re certain you’ll find something you like. See below a list of retail and wholesale vendors and a small sampling of what they sell.   \nYou may also click on the Dollar Off Coupon and bring it to the gate\, printed or on your phone\, to get one dollar off entry for each adult in your party
URL:https://kciexpo.com/event/shows-of-integrity-14/
CATEGORIES:Gems & Minerals
ATTACH;FMTTYPE=image/png:https://eodosoufjos.exactdn.com/wp-content/uploads/2024/02/gems-and-minerals-2.png
ORGANIZER;CN="Shows of Integrity":MAILTO:info@showsofintegrity.com
END:VEVENT
END:VCALENDAR