BEGIN:VCALENDAR
VERSION:2.0
PRODID:-//KCI Expo Center - ECPv6.15.18//NONSGML v1.0//EN
CALSCALE:GREGORIAN
METHOD:PUBLISH
X-ORIGINAL-URL:https://kciexpo.com
X-WR-CALDESC:Events for KCI Expo Center
REFRESH-INTERVAL;VALUE=DURATION:PT1H
X-Robots-Tag:noindex
X-PUBLISHED-TTL:PT1H
BEGIN:VTIMEZONE
TZID:America/Chicago
BEGIN:DAYLIGHT
TZOFFSETFROM:-0600
TZOFFSETTO:-0500
TZNAME:CDT
DTSTART:20240310T080000
END:DAYLIGHT
BEGIN:STANDARD
TZOFFSETFROM:-0500
TZOFFSETTO:-0600
TZNAME:CST
DTSTART:20241103T070000
END:STANDARD
BEGIN:DAYLIGHT
TZOFFSETFROM:-0600
TZOFFSETTO:-0500
TZNAME:CDT
DTSTART:20250309T080000
END:DAYLIGHT
BEGIN:STANDARD
TZOFFSETFROM:-0500
TZOFFSETTO:-0600
TZNAME:CST
DTSTART:20251102T070000
END:STANDARD
BEGIN:DAYLIGHT
TZOFFSETFROM:-0600
TZOFFSETTO:-0500
TZNAME:CDT
DTSTART:20260308T080000
END:DAYLIGHT
BEGIN:STANDARD
TZOFFSETFROM:-0500
TZOFFSETTO:-0600
TZNAME:CST
DTSTART:20261101T070000
END:STANDARD
END:VTIMEZONE
BEGIN:VEVENT
DTSTART;VALUE=DATE:20250803
DTEND;VALUE=DATE:20250804
DTSTAMP:20260424T222437
CREATED:20250204T221401Z
LAST-MODIFIED:20250204T221401Z
UID:10000920-1754179200-1754265599@kciexpo.com
SUMMARY:MidAmerican Toy and Train Show
DESCRIPTION:Our train and toy show is like a flea market that sells only toys and trains or related items. \nThey can be new\, used or collectible items offered by retail vendors or hobbyists thinning their collections. You will also meet others interested in the same things you are. There will also be groups displaying information on their clubs and organizations. You will find 200 tables of vendors buying and selling trains and toys. We also will have free train movies for viewing\, door prizes\, concessions\, and free parking. All of this is only $5 for Adults and children under 12 are free with a paid adult. \n 
URL:https://kciexpo.com/event/midamerican-toy-and-train-show-3/
LOCATION:KCI Expo Center\, 11730 NW. Ambassador Dr.\, Kansas City\, MO\, 64153\, United States
CATEGORIES:Toys
ATTACH;FMTTYPE=image/png:https://eodosoufjos.exactdn.com/wp-content/uploads/2024/02/toy-train-show.png
END:VEVENT
BEGIN:VEVENT
DTSTART;VALUE=DATE:20250809
DTEND;VALUE=DATE:20250810
DTSTAMP:20260424T222437
CREATED:20250606T153920Z
LAST-MODIFIED:20250606T153942Z
UID:10000937-1754697600-1754783999@kciexpo.com
SUMMARY:Frasher Doll Auction
DESCRIPTION:A Trusted and Experienced Business\n\n\n\nAt Frasher’s Doll Auctions\, we specialize in the sale of antique and vintage dolls and ephemera. Our team of experts has over 40 years of experience in the doll industry and is dedicated to providing you with the best possible service. We are dedicated to providing both sellers and buyers with a safe\, secure\, and successful auction experience.
URL:https://kciexpo.com/event/frasher-doll-auction-3/
LOCATION:KCI Expo Center\, 11730 NW. Ambassador Dr.\, Kansas City\, MO\, 64153\, United States
CATEGORIES:Antiques
ATTACH;FMTTYPE=image/webp:https://eodosoufjos.exactdn.com/wp-content/uploads/2024/02/Frashers.webp
END:VEVENT
BEGIN:VEVENT
DTSTART;VALUE=DATE:20250809
DTEND;VALUE=DATE:20250811
DTSTAMP:20260424T222437
CREATED:20250606T153738Z
LAST-MODIFIED:20250606T153738Z
UID:10000936-1754697600-1754870399@kciexpo.com
SUMMARY:RK Gun Show
DESCRIPTION:Looking for a great way to spend a day or the weekend of July 9-10\, 2025? If you are a gun collector or are a hunting enthusiast\, the gun show at the KCI Expo Center in Kansas City\, MO is a great place to spend some time. RK Shows will have a variety of vendors displaying guns\, hunting supplies\, military surplus and outdoor gear available to teach you\, answer your questions\, and find exactly what you’re looking for. \nSafety is first at all of RK Shows Events\, so we will have security and check-in points for the safety of our attendees and vendors. \nTickets:\nAdults: $15\, VIP: $17.50 – no line\, no wait\nKids: $6\, VIP: $8.50 – no line\, no wait \nVIP Tickets can be purchased online\, see below. \n 
URL:https://kciexpo.com/event/rk-gun-show-52/
LOCATION:KCI Expo Center\, 11730 NW. Ambassador Dr.\, Kansas City\, MO\, 64153\, United States
CATEGORIES:Firearms
ATTACH;FMTTYPE=image/png:https://eodosoufjos.exactdn.com/wp-content/uploads/2024/02/gun-show-750x500-1.png
END:VEVENT
BEGIN:VEVENT
DTSTART;VALUE=DATE:20250816
DTEND;VALUE=DATE:20250817
DTSTAMP:20260424T222437
CREATED:20250606T154055Z
LAST-MODIFIED:20250606T154055Z
UID:10000938-1755302400-1755388799@kciexpo.com
SUMMARY:Pence Estate Auction
DESCRIPTION:WELCOME! \nA respected leader in the estate sale and fine art auction business since 1982.\nPence Auction and Pence Estate Sales are a multi-generational\ntradition of excellence\, integrity and focus.\nWe provide uncompromising attention to all of your estate\, auction and appraisal needs.\nContact us today and let us know how we can help!
URL:https://kciexpo.com/event/pence-estate-auction-6/
LOCATION:KCI Expo Center\, 11730 NW. Ambassador Dr.\, Kansas City\, MO\, 64153\, United States
CATEGORIES:Antiques
ATTACH;FMTTYPE=image/png:https://eodosoufjos.exactdn.com/wp-content/uploads/2024/02/Pence_Auction_Esales.png
END:VEVENT
BEGIN:VEVENT
DTSTART;TZID=America/Chicago:20250823T170000
DTEND;TZID=America/Chicago:20250823T220000
DTSTAMP:20260424T222437
CREATED:20250606T155443Z
LAST-MODIFIED:20250818T134637Z
UID:10000939-1755968400-1755986400@kciexpo.com
SUMMARY:*****CANCELLED***** ImportExpo Car Show *****CANCELLED*****
DESCRIPTION:CANCELLED
URL:https://kciexpo.com/event/importexpo-car-show/
LOCATION:KCI Expo Center\, 11730 NW. Ambassador Dr.\, Kansas City\, MO\, 64153\, United States
CATEGORIES:Automobile
END:VEVENT
BEGIN:VEVENT
DTSTART;VALUE=DATE:20250825
DTEND;VALUE=DATE:20250830
DTSTAMP:20260424T222437
CREATED:20250317T162210Z
LAST-MODIFIED:20250606T160432Z
UID:10000934-1756080000-1756511999@kciexpo.com
SUMMARY:Private Event
DESCRIPTION:
URL:https://kciexpo.com/event/private-event-66/
CATEGORIES:Private
ATTACH;FMTTYPE=image/png:https://eodosoufjos.exactdn.com/wp-content/uploads/2024/05/private-event.png
END:VEVENT
END:VCALENDAR