BEGIN:VCALENDAR
VERSION:2.0
PRODID:-//KCI Expo Center - ECPv6.15.18//NONSGML v1.0//EN
CALSCALE:GREGORIAN
METHOD:PUBLISH
X-WR-CALNAME:KCI Expo Center
X-ORIGINAL-URL:https://kciexpo.com
X-WR-CALDESC:Events for KCI Expo Center
REFRESH-INTERVAL;VALUE=DURATION:PT1H
X-Robots-Tag:noindex
X-PUBLISHED-TTL:PT1H
BEGIN:VTIMEZONE
TZID:America/Chicago
BEGIN:DAYLIGHT
TZOFFSETFROM:-0600
TZOFFSETTO:-0500
TZNAME:CDT
DTSTART:20240310T080000
END:DAYLIGHT
BEGIN:STANDARD
TZOFFSETFROM:-0500
TZOFFSETTO:-0600
TZNAME:CST
DTSTART:20241103T070000
END:STANDARD
BEGIN:DAYLIGHT
TZOFFSETFROM:-0600
TZOFFSETTO:-0500
TZNAME:CDT
DTSTART:20250309T080000
END:DAYLIGHT
BEGIN:STANDARD
TZOFFSETFROM:-0500
TZOFFSETTO:-0600
TZNAME:CST
DTSTART:20251102T070000
END:STANDARD
BEGIN:DAYLIGHT
TZOFFSETFROM:-0600
TZOFFSETTO:-0500
TZNAME:CDT
DTSTART:20260308T080000
END:DAYLIGHT
BEGIN:STANDARD
TZOFFSETFROM:-0500
TZOFFSETTO:-0600
TZNAME:CST
DTSTART:20261101T070000
END:STANDARD
END:VTIMEZONE
BEGIN:VEVENT
DTSTART;VALUE=DATE:20250202
DTEND;VALUE=DATE:20250203
DTSTAMP:20260425T065544
CREATED:20241127T144617Z
LAST-MODIFIED:20241127T144617Z
UID:10000908-1738454400-1738540799@kciexpo.com
SUMMARY:MidAmerican Toy and Train Show
DESCRIPTION:Our train and toy show is like a flea market that sells only toys and trains or related items. \nThey can be new\, used or collectible items offered by retail vendors or hobbyists thinning their collections. You will also meet others interested in the same things you are. There will also be groups displaying information on their clubs and organizations. You will find 200 tables of vendors buying and selling trains and toys. We also will have free train movies for viewing\, door prizes\, concessions\, and free parking. All of this is only $5 for Adults and children under 12 are free with a paid adult. \n 
URL:https://kciexpo.com/event/midamerican-toy-and-train-show-2/
CATEGORIES:Toys
ATTACH;FMTTYPE=image/png:https://eodosoufjos.exactdn.com/wp-content/uploads/2024/02/toy-train-show.png
END:VEVENT
BEGIN:VEVENT
DTSTART;VALUE=DATE:20250204
DTEND;VALUE=DATE:20250206
DTSTAMP:20260425T065544
CREATED:20241008T164619Z
LAST-MODIFIED:20241008T164619Z
UID:10000897-1738627200-1738799999@kciexpo.com
SUMMARY:Private Event
DESCRIPTION:
URL:https://kciexpo.com/event/private-event-51/
CATEGORIES:Private
ATTACH;FMTTYPE=image/png:https://eodosoufjos.exactdn.com/wp-content/uploads/2024/05/private-event.png
END:VEVENT
BEGIN:VEVENT
DTSTART;VALUE=DATE:20250208
DTEND;VALUE=DATE:20250210
DTSTAMP:20260425T065544
CREATED:20241008T164656Z
LAST-MODIFIED:20241008T164656Z
UID:10000898-1738972800-1739145599@kciexpo.com
SUMMARY:Private Event
DESCRIPTION:
URL:https://kciexpo.com/event/private-event-52/
CATEGORIES:Private
ATTACH;FMTTYPE=image/png:https://eodosoufjos.exactdn.com/wp-content/uploads/2024/05/private-event.png
END:VEVENT
BEGIN:VEVENT
DTSTART;VALUE=DATE:20250211
DTEND;VALUE=DATE:20250213
DTSTAMP:20260425T065544
CREATED:20241008T170334Z
LAST-MODIFIED:20241008T170334Z
UID:10000905-1739232000-1739404799@kciexpo.com
SUMMARY:Private Event
DESCRIPTION:
URL:https://kciexpo.com/event/private-event-57/
CATEGORIES:Private
ATTACH;FMTTYPE=image/png:https://eodosoufjos.exactdn.com/wp-content/uploads/2024/05/private-event.png
END:VEVENT
BEGIN:VEVENT
DTSTART;VALUE=DATE:20250215
DTEND;VALUE=DATE:20250217
DTSTAMP:20260425T065544
CREATED:20241008T163946Z
LAST-MODIFIED:20241008T163946Z
UID:10000893-1739577600-1739750399@kciexpo.com
SUMMARY:RK Gun Show
DESCRIPTION:Looking for a great way to spend a day or the weekend of February 15-16\, 2025? If you are a gun collector or are a hunting enthusiast\, the gun show at the KCI Expo Center in Kansas City\, MO is a great place to spend some time. RK Shows will have a variety of vendors displaying guns\, hunting supplies\, military surplus and outdoor gear available to teach you\, answer your questions\, and find exactly what you’re looking for. \nSafety is first at all of RK Shows Events\, so we will have security and check-in points for the safety of our attendees and vendors. \nTickets:\nAdults: $15\, VIP: $17.50 – no line\, no wait\nKids: $6\, VIP: $8.50 – no line\, no wait \nVIP Tickets can be purchased online\, see below. \n 
URL:https://kciexpo.com/event/rk-gun-show-50/
CATEGORIES:Firearms
ATTACH;FMTTYPE=image/png:https://eodosoufjos.exactdn.com/wp-content/uploads/2024/02/gun-show-750x500-1.png
END:VEVENT
BEGIN:VEVENT
DTSTART;VALUE=DATE:20250221
DTEND;VALUE=DATE:20250223
DTSTAMP:20260425T065544
CREATED:20241008T164725Z
LAST-MODIFIED:20241008T164725Z
UID:10000899-1740096000-1740268799@kciexpo.com
SUMMARY:Private Event
DESCRIPTION:
URL:https://kciexpo.com/event/private-event-53/
CATEGORIES:Private
ATTACH;FMTTYPE=image/png:https://eodosoufjos.exactdn.com/wp-content/uploads/2024/05/private-event.png
END:VEVENT
BEGIN:VEVENT
DTSTART;VALUE=DATE:20250221
DTEND;VALUE=DATE:20250223
DTSTAMP:20260425T065544
CREATED:20250204T212801Z
LAST-MODIFIED:20250204T212801Z
UID:10000909-1740096000-1740268799@kciexpo.com
SUMMARY:DAX: Decorator Apparel Show
DESCRIPTION:The Decorated Apparel Expo is the embroidery\, digital garment decorating and screen printing industry’s top-rated trade show! \nWe’re excited to welcome you back to DAX Kansas City at the KCI Expo Center\, conveniently located right across from the airport. Come explore a trade floor packed with exhibitors eager to showcase the latest products and equipment that you need to boost your business! \nEarly Bird pricing ends on 2/6. Through that date\, attendee registration is FREE and education sessions are discounted! Register TODAY!
URL:https://kciexpo.com/event/dax-decorator-apparel-show-2/
CATEGORIES:Apparel
ATTACH;FMTTYPE=image/jpeg:https://eodosoufjos.exactdn.com/wp-content/uploads/2024/02/DAX.jpg
END:VEVENT
BEGIN:VEVENT
DTSTART;VALUE=DATE:20250221
DTEND;VALUE=DATE:20250224
DTSTAMP:20260425T065544
CREATED:20241008T164809Z
LAST-MODIFIED:20241008T193831Z
UID:10000900-1740096000-1740355199@kciexpo.com
SUMMARY:Hot Tub and Swim Spa Blowout
DESCRIPTION:
URL:https://kciexpo.com/event/spa-and-swim-spa-blowout-3/
CATEGORIES:Spa
ATTACH;FMTTYPE=image/png:https://eodosoufjos.exactdn.com/wp-content/uploads/2024/07/spa-and-swim.png
END:VEVENT
BEGIN:VEVENT
DTSTART;VALUE=DATE:20250228
DTEND;VALUE=DATE:20250304
DTSTAMP:20260425T065544
CREATED:20241008T164859Z
LAST-MODIFIED:20241008T164859Z
UID:10000901-1740700800-1741046399@kciexpo.com
SUMMARY:Private Event
DESCRIPTION:
URL:https://kciexpo.com/event/private-event-54/
CATEGORIES:Private
ATTACH;FMTTYPE=image/png:https://eodosoufjos.exactdn.com/wp-content/uploads/2024/05/private-event.png
END:VEVENT
END:VCALENDAR