BEGIN:VCALENDAR
VERSION:2.0
PRODID:-//KCI Expo Center - ECPv6.15.18//NONSGML v1.0//EN
CALSCALE:GREGORIAN
METHOD:PUBLISH
X-ORIGINAL-URL:https://kciexpo.com
X-WR-CALDESC:Events for KCI Expo Center
REFRESH-INTERVAL;VALUE=DURATION:PT1H
X-Robots-Tag:noindex
X-PUBLISHED-TTL:PT1H
BEGIN:VTIMEZONE
TZID:America/Chicago
BEGIN:DAYLIGHT
TZOFFSETFROM:-0600
TZOFFSETTO:-0500
TZNAME:CDT
DTSTART:20240310T080000
END:DAYLIGHT
BEGIN:STANDARD
TZOFFSETFROM:-0500
TZOFFSETTO:-0600
TZNAME:CST
DTSTART:20241103T070000
END:STANDARD
BEGIN:DAYLIGHT
TZOFFSETFROM:-0600
TZOFFSETTO:-0500
TZNAME:CDT
DTSTART:20250309T080000
END:DAYLIGHT
BEGIN:STANDARD
TZOFFSETFROM:-0500
TZOFFSETTO:-0600
TZNAME:CST
DTSTART:20251102T070000
END:STANDARD
BEGIN:DAYLIGHT
TZOFFSETFROM:-0600
TZOFFSETTO:-0500
TZNAME:CDT
DTSTART:20260308T080000
END:DAYLIGHT
BEGIN:STANDARD
TZOFFSETFROM:-0500
TZOFFSETTO:-0600
TZNAME:CST
DTSTART:20261101T070000
END:STANDARD
END:VTIMEZONE
BEGIN:VEVENT
DTSTART;VALUE=DATE:20250104
DTEND;VALUE=DATE:20250105
DTSTAMP:20260425T082430
CREATED:20241127T143820Z
LAST-MODIFIED:20241127T143820Z
UID:10000906-1735948800-1736035199@kciexpo.com
SUMMARY:Pence Estate Auction
DESCRIPTION:WELCOME! \nA respected leader in the estate sale and fine art auction business since 1982.\nPence Auction and Pence Estate Sales are a multi-generational\ntradition of excellence\, integrity and focus.\nWe provide uncompromising attention to all of your estate\, auction and appraisal needs.\nContact us today and let us know how we can help!
URL:https://kciexpo.com/event/pence-estate-auction-4/
CATEGORIES:Antiques
ATTACH;FMTTYPE=image/png:https://eodosoufjos.exactdn.com/wp-content/uploads/2024/02/Pence_Auction_Esales.png
END:VEVENT
BEGIN:VEVENT
DTSTART;VALUE=DATE:20250104
DTEND;VALUE=DATE:20250106
DTSTAMP:20260425T082430
CREATED:20241008T162546Z
LAST-MODIFIED:20241008T162725Z
UID:10000891-1735948800-1736121599@kciexpo.com
SUMMARY:The Great Train Show
DESCRIPTION:Old-Fashioned Family Fun\nImmerse yourself in the fascinating world of miniature railroading at the train show! The train show is designed for children of all ages; for modelers\, collectors and enthusiasts; for families in search of good old-fashioned fun; and for the simply curious. Each show features hundreds of tables of trains\, accessories\, scale models and collectible toys for sale as well as huge operating exhibits\, activities for kids\, free seminars and educational opportunities\, and much more. \n\n\n\nVisiting the Train Show\nThere’s plenty at the show to see and do. You’ll see the best that the model railroad hobby has to offer: beautifully designed and built model train layouts in operation\, scale models of trains\, cars and buildings\, new products and collectible trains and toys from years past. Each show features dealers from across the country offering special deals and products hard to find anywhere else. There are free workshops and seminars where you can learn how to build a model railroad of your own\, how to use digital command control\, or how to make your trains and layout look ultra-realistic. Our shows are designed to promote model trains to even the youngest enthusiast\, and many of our shows have a riding train within the show for kids to ride or have interactive exhibits where kids can operate part of a layout or race model trains or cars. All of our shows admit children for free! \n\n\nDo You Have Trains to Sell? Sell Them at the Show!\nThe shows aren’t just about displays and dealers. If you’re looking to sell your old trains\, the train show is the place to do that too. Anyone is welcome to sell their old trains at the train show; you don’t need to own a business or be a professional dealer. You can either rent a selling booth at the show or\, if you have a smaller collection to sell\, you can just bring your trains with you and sell them to one of the dealers set up at the show. Contact our office for more information if you’d like to sell your trains at the show or just click here for information on selling trains at the train show. \nWe hope to see you at the next train show in your area! All Aboard!
URL:https://kciexpo.com/event/the-great-train-show/
CATEGORIES:Toys
ATTACH;FMTTYPE=image/png:https://eodosoufjos.exactdn.com/wp-content/uploads/2024/02/toy-train-show.png
END:VEVENT
BEGIN:VEVENT
DTSTART;VALUE=DATE:20250118
DTEND;VALUE=DATE:20250119
DTSTAMP:20260425T082430
CREATED:20241127T144255Z
LAST-MODIFIED:20241127T144311Z
UID:10000907-1737158400-1737244799@kciexpo.com
SUMMARY:FUJI BJJ The Kansas City Winter Open
DESCRIPTION:Kansas City Winter Open\n\nFUJI BJJ presents the Kansas City Winter Open. We are dedicated to bringing you the best tournament experience possible. Our tournament series offer divisions for any age\, weight\, skill level\, as well as GI and NOGI divisions. \n\nTOURNAMENT DETAILS:  \nDate: 01/18/2025 \nVenue: KCI Expo Center \nAddress: 11730 N Ambassador Dr\, Kansas City\, MO 64153 \nFormat: Depending on the bracket size we offer best of three\, round robin\, and modified double elimination brackets to ensure everyone gets more than one match. \nAge Standards: Age 4 and Up \nAll States Welcome! \nSPECTATOR FEE:\nAll spectators over the age of 12 years old must have a spectator pass.  Passes may be purchased at the door upon entry of the venue. \n\nSpectator fee: $20.\n\nEach academy may designate up to 2 coaches who receive spectator passes at no cost.  The academy must have competitors registered for this particular event and the passes must be approved by the event director.
URL:https://kciexpo.com/event/fuji-bjj-the-kansas-city-winter-open/
CATEGORIES:Tournaments
ATTACH;FMTTYPE=image/jpeg:https://eodosoufjos.exactdn.com/wp-content/uploads/2024/07/exhibitors.jpg
END:VEVENT
BEGIN:VEVENT
DTSTART;VALUE=DATE:20250124
DTEND;VALUE=DATE:20250127
DTSTAMP:20260425T082430
CREATED:20241008T164442Z
LAST-MODIFIED:20241008T164442Z
UID:10000895-1737676800-1737935999@kciexpo.com
SUMMARY:Private Event
DESCRIPTION:
URL:https://kciexpo.com/event/private-event-49/
CATEGORIES:Private
ATTACH;FMTTYPE=image/png:https://eodosoufjos.exactdn.com/wp-content/uploads/2024/05/private-event.png
END:VEVENT
BEGIN:VEVENT
DTSTART;VALUE=DATE:20250128
DTEND;VALUE=DATE:20250131
DTSTAMP:20260425T082430
CREATED:20241008T164531Z
LAST-MODIFIED:20241008T164531Z
UID:10000896-1738022400-1738281599@kciexpo.com
SUMMARY:Private Event
DESCRIPTION:
URL:https://kciexpo.com/event/private-event-50/
CATEGORIES:Private
ATTACH;FMTTYPE=image/png:https://eodosoufjos.exactdn.com/wp-content/uploads/2024/05/private-event.png
END:VEVENT
END:VCALENDAR