BEGIN:VCALENDAR
VERSION:2.0
PRODID:-//KCI Expo Center - ECPv6.15.18//NONSGML v1.0//EN
CALSCALE:GREGORIAN
METHOD:PUBLISH
X-ORIGINAL-URL:https://kciexpo.com
X-WR-CALDESC:Events for KCI Expo Center
REFRESH-INTERVAL;VALUE=DURATION:PT1H
X-Robots-Tag:noindex
X-PUBLISHED-TTL:PT1H
BEGIN:VTIMEZONE
TZID:America/Chicago
BEGIN:DAYLIGHT
TZOFFSETFROM:-0600
TZOFFSETTO:-0500
TZNAME:CDT
DTSTART:20230312T080000
END:DAYLIGHT
BEGIN:STANDARD
TZOFFSETFROM:-0500
TZOFFSETTO:-0600
TZNAME:CST
DTSTART:20231105T070000
END:STANDARD
BEGIN:DAYLIGHT
TZOFFSETFROM:-0600
TZOFFSETTO:-0500
TZNAME:CDT
DTSTART:20240310T080000
END:DAYLIGHT
BEGIN:STANDARD
TZOFFSETFROM:-0500
TZOFFSETTO:-0600
TZNAME:CST
DTSTART:20241103T070000
END:STANDARD
BEGIN:DAYLIGHT
TZOFFSETFROM:-0600
TZOFFSETTO:-0500
TZNAME:CDT
DTSTART:20250309T080000
END:DAYLIGHT
BEGIN:STANDARD
TZOFFSETFROM:-0500
TZOFFSETTO:-0600
TZNAME:CST
DTSTART:20251102T070000
END:STANDARD
END:VTIMEZONE
BEGIN:VEVENT
DTSTART;VALUE=DATE:20241016
DTEND;VALUE=DATE:20241018
DTSTAMP:20260425T122714
CREATED:20240222T175124Z
LAST-MODIFIED:20240516T122019Z
UID:10000882-1729036800-1729209599@kciexpo.com
SUMMARY:Private Event
DESCRIPTION:
URL:https://kciexpo.com/event/private-event-48/
CATEGORIES:Private
ATTACH;FMTTYPE=image/png:https://eodosoufjos.exactdn.com/wp-content/uploads/2024/05/private-event.png
END:VEVENT
BEGIN:VEVENT
DTSTART;TZID=America/Chicago:20241019T080000
DTEND;TZID=America/Chicago:20241020T150000
DTSTAMP:20260425T122714
CREATED:20240222T175255Z
LAST-MODIFIED:20240726T191025Z
UID:10000883-1729324800-1729436400@kciexpo.com
SUMMARY:RK Gun Show
DESCRIPTION:Looking for a great way to spend a day or the weekend of October 19-20\, 2024? If you are a gun collector or are a hunting enthusiast\, the gun show at the KCI Expo Center in Kansas City\, MO is a great place to spend some time. RK Shows will have a variety of vendors displaying guns\, hunting supplies\, military surplus and outdoor gear available to teach you\, answer your questions\, and find exactly what you’re looking for. \nSafety is first at all of RK Shows Events\, so we will have security and check-in points for the safety of our attendees and vendors. \nHours:\nSaturday: 8 AM – 5 PM\nSunday: 9 AM – 3 PM \nTickets:\nAdults: $14\, VIP: $16.50 – no line\, no wait\nKids: $6\, VIP: $8.50 – no line\, no wait \nVIP Tickets can be purchased online\, see below. \nDealer Set Up:\nFriday: NOON – 7 PM\nSaturday: 7 AM – 8 AM
URL:https://kciexpo.com/event/rk-gun-show-46/
CATEGORIES:Firearms
ATTACH;FMTTYPE=image/png:https://eodosoufjos.exactdn.com/wp-content/uploads/2024/02/gun-show-750x500-1.png
END:VEVENT
BEGIN:VEVENT
DTSTART;VALUE=DATE:20241025
DTEND;VALUE=DATE:20241027
DTSTAMP:20260425T122714
CREATED:20240222T175428Z
LAST-MODIFIED:20241008T193854Z
UID:10000884-1729814400-1729987199@kciexpo.com
SUMMARY:Hot Tub and Swim Spa Blowout
DESCRIPTION:
URL:https://kciexpo.com/event/spa-and-swim-spa-blowout-2/
CATEGORIES:Spa
ATTACH;FMTTYPE=image/png:https://eodosoufjos.exactdn.com/wp-content/uploads/2024/07/spa-and-swim.png
END:VEVENT
BEGIN:VEVENT
DTSTART;TZID=America/Chicago:20241026T100000
DTEND;TZID=America/Chicago:20241026T170000
DTSTAMP:20260425T122714
CREATED:20241008T161545Z
LAST-MODIFIED:20241008T162017Z
UID:10000890-1729936800-1729962000@kciexpo.com
SUMMARY:Time Travelers Vintage Expo
DESCRIPTION:Time Travelers Vintage Expo is the largest traveling retro vintage market in the United States\, currently visiting 17 cities from coast to coast. Attendees can expect to find a retro wonderland with the absolute best in vintage clothing\, home goods\, retro-inspired handmade\, and more! Our vendors are carefully selected from across the country for a highly curated shopping experience and offer a wide range of styles and price points. We strive to create an inclusive space focused on community\, sustainability\, and creativity while supporting the dreams of 80-120 small businesses\, curators\, and artists per show. There is something for every vintage lover at Time Travelers Vintage Expo!
URL:https://kciexpo.com/event/time-travelers-vintage-expo-2/
CATEGORIES:Antiques,Apparel
ATTACH;FMTTYPE=image/jpeg:https://eodosoufjos.exactdn.com/wp-content/uploads/2024/10/vintage.jpg
END:VEVENT
END:VCALENDAR