BEGIN:VCALENDAR
VERSION:2.0
PRODID:-//KCI Expo Center - ECPv6.15.18//NONSGML v1.0//EN
CALSCALE:GREGORIAN
METHOD:PUBLISH
X-ORIGINAL-URL:https://kciexpo.com
X-WR-CALDESC:Events for KCI Expo Center
REFRESH-INTERVAL;VALUE=DURATION:PT1H
X-Robots-Tag:noindex
X-PUBLISHED-TTL:PT1H
BEGIN:VTIMEZONE
TZID:America/Chicago
BEGIN:DAYLIGHT
TZOFFSETFROM:-0600
TZOFFSETTO:-0500
TZNAME:CDT
DTSTART:20230312T080000
END:DAYLIGHT
BEGIN:STANDARD
TZOFFSETFROM:-0500
TZOFFSETTO:-0600
TZNAME:CST
DTSTART:20231105T070000
END:STANDARD
BEGIN:DAYLIGHT
TZOFFSETFROM:-0600
TZOFFSETTO:-0500
TZNAME:CDT
DTSTART:20240310T080000
END:DAYLIGHT
BEGIN:STANDARD
TZOFFSETFROM:-0500
TZOFFSETTO:-0600
TZNAME:CST
DTSTART:20241103T070000
END:STANDARD
BEGIN:DAYLIGHT
TZOFFSETFROM:-0600
TZOFFSETTO:-0500
TZNAME:CDT
DTSTART:20250309T080000
END:DAYLIGHT
BEGIN:STANDARD
TZOFFSETFROM:-0500
TZOFFSETTO:-0600
TZNAME:CST
DTSTART:20251102T070000
END:STANDARD
END:VTIMEZONE
BEGIN:VEVENT
DTSTART;VALUE=DATE:20240301
DTEND;VALUE=DATE:20240304
DTSTAMP:20260425T223823
CREATED:20240222T162358Z
LAST-MODIFIED:20240222T204913Z
UID:10000855-1709251200-1709510399@kciexpo.com
SUMMARY:Private Event
DESCRIPTION:
URL:https://kciexpo.com/event/private-show-2/
CATEGORIES:Private
END:VEVENT
BEGIN:VEVENT
DTSTART;TZID=America/Chicago:20240308T100000
DTEND;TZID=America/Chicago:20240310T170000
DTSTAMP:20260425T223823
CREATED:20240222T162738Z
LAST-MODIFIED:20240222T181503Z
UID:10000856-1709892000-1710090000@kciexpo.com
SUMMARY:62nd Gem and Mineral Show
DESCRIPTION:Our next show\, The 62nd Annual Gem & Mineral Show\, is Presented by The Association of Earth Science Clubs of Greater Kansas City\, Inc. \n  \nShow Hours & Admissions: \nFriday\, March 8\, 2024 10:00 am 8:00 pm Adults $7.00 \nSaturday \, March 9\, 2024 10:00 am 7:00 pm 2 day passes $12.00 \nScholarship Auction 7:00 pm 3 day passes $18.00 \nSunday\, March 10\, 2024 10:00 am 5:00 pm Children 5-12 $4.00 \nChildren 4 & under Free
URL:https://kciexpo.com/event/62nd-gem-and-mineral-show/
CATEGORIES:Gems & Minerals
ATTACH;FMTTYPE=image/png:https://eodosoufjos.exactdn.com/wp-content/uploads/2024/02/Gem.png
END:VEVENT
BEGIN:VEVENT
DTSTART;VALUE=DATE:20240316
DTEND;VALUE=DATE:20240317
DTSTAMP:20260425T223823
CREATED:20240222T163141Z
LAST-MODIFIED:20240222T181620Z
UID:10000857-1710547200-1710633599@kciexpo.com
SUMMARY:Pence Estate Auction
DESCRIPTION:WELCOME! \nA respected leader in the estate sale and fine art auction business since 1982.\nPence Auction and Pence Estate Sales are a multi-generational\ntradition of excellence\, integrity and focus.\nWe provide uncompromising attention to all of your estate\, auction and appraisal needs.\nContact us today and let us know how we can help!
URL:https://kciexpo.com/event/pence-estate-auction/
CATEGORIES:Antiques
ATTACH;FMTTYPE=image/png:https://eodosoufjos.exactdn.com/wp-content/uploads/2024/02/Pence_Auction_Esales.png
END:VEVENT
BEGIN:VEVENT
DTSTART;TZID=America/Chicago:20240323T080000
DTEND;TZID=America/Chicago:20240324T150000
DTSTAMP:20260425T223823
CREATED:20240222T163859Z
LAST-MODIFIED:20240222T193508Z
UID:10000858-1711180800-1711292400@kciexpo.com
SUMMARY:RK Gun Show
DESCRIPTION:Looking for a great way to spend a day or the weekend of March 23-24\, 2024? If you are a gun collector or are a hunting enthusiast\, the gun show at the KCI Expo Center in Kansas City\, MO is a great place to spend some time. RK Shows will have a variety of vendors displaying guns\, hunting supplies\, military surplus and outdoor gear available to teach you\, answer your questions\, and find exactly what you’re looking for. \nSafety is first at all of RK Shows Events\, so we will have security and check-in points for the safety of our attendees and vendors. \nHours:\nSaturday: 8 AM – 5 PM\nSunday: 9 AM – 3 PM \nTickets:\nAdults: $14\, VIP: $16.50 – no line\, no wait\nKids: $6\, VIP: $8.50 – no line\, no wait \nVIP Tickets can be purchased online. \nDealer Set Up:\nFriday: NOON – 7 PM\nSaturday: 7 AM – 8 AM
URL:https://kciexpo.com/event/rk-gun-show-43/
CATEGORIES:Firearms
ATTACH;FMTTYPE=image/png:https://eodosoufjos.exactdn.com/wp-content/uploads/2024/02/rkshows-logo.png
END:VEVENT
BEGIN:VEVENT
DTSTART;VALUE=DATE:20240330
DTEND;VALUE=DATE:20240331
DTSTAMP:20260425T223823
CREATED:20240222T164530Z
LAST-MODIFIED:20240222T193632Z
UID:10000859-1711756800-1711843199@kciexpo.com
SUMMARY:Pence Estate Auction
DESCRIPTION:WELCOME! \nA respected leader in the estate sale and fine art auction business since 1982.\nPence Auction and Pence Estate Sales are a multi-generational\ntradition of excellence\, integrity and focus.\nWe provide uncompromising attention to all of your estate\, auction and appraisal needs.\nContact us today and let us know how we can help!
URL:https://kciexpo.com/event/pence-estate-auction-2/
CATEGORIES:Antiques
ATTACH;FMTTYPE=image/png:https://eodosoufjos.exactdn.com/wp-content/uploads/2024/02/Pence_Auction_Esales.png
END:VEVENT
END:VCALENDAR