BEGIN:VCALENDAR
VERSION:2.0
PRODID:-//KCI Expo Center - ECPv6.15.18//NONSGML v1.0//EN
CALSCALE:GREGORIAN
METHOD:PUBLISH
X-ORIGINAL-URL:https://kciexpo.com
X-WR-CALDESC:Events for KCI Expo Center
REFRESH-INTERVAL;VALUE=DURATION:PT1H
X-Robots-Tag:noindex
X-PUBLISHED-TTL:PT1H
BEGIN:VTIMEZONE
TZID:America/Chicago
BEGIN:DAYLIGHT
TZOFFSETFROM:-0600
TZOFFSETTO:-0500
TZNAME:CDT
DTSTART:20250309T080000
END:DAYLIGHT
BEGIN:STANDARD
TZOFFSETFROM:-0500
TZOFFSETTO:-0600
TZNAME:CST
DTSTART:20251102T070000
END:STANDARD
BEGIN:DAYLIGHT
TZOFFSETFROM:-0600
TZOFFSETTO:-0500
TZNAME:CDT
DTSTART:20260308T080000
END:DAYLIGHT
BEGIN:STANDARD
TZOFFSETFROM:-0500
TZOFFSETTO:-0600
TZNAME:CST
DTSTART:20261101T070000
END:STANDARD
BEGIN:DAYLIGHT
TZOFFSETFROM:-0600
TZOFFSETTO:-0500
TZNAME:CDT
DTSTART:20270314T080000
END:DAYLIGHT
BEGIN:STANDARD
TZOFFSETFROM:-0500
TZOFFSETTO:-0600
TZNAME:CST
DTSTART:20271107T070000
END:STANDARD
END:VTIMEZONE
BEGIN:VEVENT
DTSTART;VALUE=DATE:20260313
DTEND;VALUE=DATE:20260316
DTSTAMP:20260423T120449
CREATED:20260105T220542Z
LAST-MODIFIED:20260105T220542Z
UID:10000964-1773360000-1773619199@kciexpo.com
SUMMARY:64th Gem and Mineral Show
DESCRIPTION:Our next show\, The 64th Annual Gem & Mineral Show\, is Presented by The Association of Earth Science Clubs of Greater Kansas City\, Inc. \n  \nShow Hours & Admissions: \nFriday: 10am – 8pmSaturday: 10am – 7pmSunday: 10am – 5pm \n\nAdmission:\n\n\nAdults: $7.002 Day Pass: $12.003 Day Pass: $18.00Children 5 to 12: $4.00Children 4 & Under: FreeCash Only at Front Gate
URL:https://kciexpo.com/event/64th-gem-and-mineral-show/
CATEGORIES:Gems & Minerals
ATTACH;FMTTYPE=image/png:https://eodosoufjos.exactdn.com/wp-content/uploads/2024/07/gems-and-minerals-1.png
END:VEVENT
END:VCALENDAR