BEGIN:VCALENDAR
VERSION:2.0
PRODID:-//KCI Expo Center - ECPv6.15.18//NONSGML v1.0//EN
CALSCALE:GREGORIAN
METHOD:PUBLISH
X-WR-CALNAME:KCI Expo Center
X-ORIGINAL-URL:https://kciexpo.com
X-WR-CALDESC:Events for KCI Expo Center
REFRESH-INTERVAL;VALUE=DURATION:PT1H
X-Robots-Tag:noindex
X-PUBLISHED-TTL:PT1H
BEGIN:VTIMEZONE
TZID:America/Chicago
BEGIN:DAYLIGHT
TZOFFSETFROM:-0600
TZOFFSETTO:-0500
TZNAME:CDT
DTSTART:20220313T080000
END:DAYLIGHT
BEGIN:STANDARD
TZOFFSETFROM:-0500
TZOFFSETTO:-0600
TZNAME:CST
DTSTART:20221106T070000
END:STANDARD
BEGIN:DAYLIGHT
TZOFFSETFROM:-0600
TZOFFSETTO:-0500
TZNAME:CDT
DTSTART:20230312T080000
END:DAYLIGHT
BEGIN:STANDARD
TZOFFSETFROM:-0500
TZOFFSETTO:-0600
TZNAME:CST
DTSTART:20231105T070000
END:STANDARD
BEGIN:DAYLIGHT
TZOFFSETFROM:-0600
TZOFFSETTO:-0500
TZNAME:CDT
DTSTART:20240310T080000
END:DAYLIGHT
BEGIN:STANDARD
TZOFFSETFROM:-0500
TZOFFSETTO:-0600
TZNAME:CST
DTSTART:20241103T070000
END:STANDARD
END:VTIMEZONE
BEGIN:VEVENT
DTSTART;TZID=America/Chicago:20230325T080000
DTEND;TZID=America/Chicago:20230325T170000
DTSTAMP:20260420T220811
CREATED:20230313T192537Z
LAST-MODIFIED:20230313T192716Z
UID:10000845-1679731200-1679763600@kciexpo.com
SUMMARY:RK Gun Show
DESCRIPTION:Looking for a great way to spend a day or the weekend of March 25-26\, 2023? If you are a gun collector or are a hunting enthusiast\, the gun show at the KCI Expo Center is a great place to spend some time. RK Shows will have a variety of vendors displaying guns\, hunting supplies\, military surplus and outdoor gear available to teach you\, answer your questions\, and find exactly what you’re looking for. \nSafety is first at all of RK Shows Events\, so we will have security and check-in points for the safety of our attendees and vendors. \nHours:\nSaturday (3/25): 8 AM – 5 PM\nSunday (3/26): 9 AM – 3 PM \nTickets:\nAdults: $14\, VIP: $16.50 – no line\, no wait\nKids: $6\, VIP: $8.50 – no line\, no wait
URL:https://kciexpo.com/event/rk-gun-show-38/
LOCATION:KCI Expo Center\, 11730 NW. Ambassador Dr.\, Kansas City\, MO\, 64153\, United States
CATEGORIES:Firearms
END:VEVENT
BEGIN:VEVENT
DTSTART;TZID=America/Chicago:20230326T090000
DTEND;TZID=America/Chicago:20230326T150000
DTSTAMP:20260420T220811
CREATED:20230313T192624Z
LAST-MODIFIED:20230313T192724Z
UID:10000846-1679821200-1679842800@kciexpo.com
SUMMARY:RK Gun Show
DESCRIPTION:Looking for a great way to spend a day or the weekend of March 25-26\, 2023? If you are a gun collector or are a hunting enthusiast\, the gun show at the KCI Expo Center is a great place to spend some time. RK Shows will have a variety of vendors displaying guns\, hunting supplies\, military surplus and outdoor gear available to teach you\, answer your questions\, and find exactly what you’re looking for. \nSafety is first at all of RK Shows Events\, so we will have security and check-in points for the safety of our attendees and vendors. \nHours:\nSaturday (3/25): 8 AM – 5 PM\nSunday (3/26): 9 AM – 3 PM \nTickets:\nAdults: $14\, VIP: $16.50 – no line\, no wait\nKids: $6\, VIP: $8.50 – no line\, no wait
URL:https://kciexpo.com/event/rk-gun-show-39/
LOCATION:KCI Expo Center\, 11730 NW. Ambassador Dr.\, Kansas City\, MO\, 64153\, United States
CATEGORIES:Firearms
END:VEVENT
END:VCALENDAR