BEGIN:VCALENDAR
VERSION:2.0
PRODID:-//KCI Expo Center - ECPv6.15.18//NONSGML v1.0//EN
CALSCALE:GREGORIAN
METHOD:PUBLISH
X-ORIGINAL-URL:https://kciexpo.com
X-WR-CALDESC:Events for KCI Expo Center
REFRESH-INTERVAL;VALUE=DURATION:PT1H
X-Robots-Tag:noindex
X-PUBLISHED-TTL:PT1H
BEGIN:VTIMEZONE
TZID:America/Chicago
BEGIN:DAYLIGHT
TZOFFSETFROM:-0600
TZOFFSETTO:-0500
TZNAME:CDT
DTSTART:20150308T080000
END:DAYLIGHT
BEGIN:STANDARD
TZOFFSETFROM:-0500
TZOFFSETTO:-0600
TZNAME:CST
DTSTART:20151101T070000
END:STANDARD
BEGIN:DAYLIGHT
TZOFFSETFROM:-0600
TZOFFSETTO:-0500
TZNAME:CDT
DTSTART:20160313T080000
END:DAYLIGHT
BEGIN:STANDARD
TZOFFSETFROM:-0500
TZOFFSETTO:-0600
TZNAME:CST
DTSTART:20161106T070000
END:STANDARD
BEGIN:DAYLIGHT
TZOFFSETFROM:-0600
TZOFFSETTO:-0500
TZNAME:CDT
DTSTART:20170312T080000
END:DAYLIGHT
BEGIN:STANDARD
TZOFFSETFROM:-0500
TZOFFSETTO:-0600
TZNAME:CST
DTSTART:20171105T070000
END:STANDARD
END:VTIMEZONE
BEGIN:VEVENT
DTSTART;TZID=America/Chicago:20160213T080000
DTEND;TZID=America/Chicago:20160214T150000
DTSTAMP:20260425T220554
CREATED:20151116T194534Z
LAST-MODIFIED:20190709T154733Z
UID:10000507-1455350400-1455462000@kciexpo.com
SUMMARY:RK Show
DESCRIPTION:Saturday (2/13)   8 am — 5 pm \nSunday (2/14)       9 am – 3 pm \nAdmission:   Adults   $12.00 \nChildren     $4.00 \nUnder 6 free
URL:https://kciexpo.com/event/rk-show-4/
LOCATION:KCI Expo Center\, 11730 NW. Ambassador Dr.\, Kansas City\, MO\, 64153\, United States
CATEGORIES:Firearms
END:VEVENT
END:VCALENDAR